BEGIN:VCALENDAR
VERSION:2.0
PRODID:-//ATC training - ECPv4.8.2//NONSGML v1.0//EN
CALSCALE:GREGORIAN
METHOD:PUBLISH
X-WR-CALNAME:ATC training
X-ORIGINAL-URL:https://www.atctraining.ro
X-WR-CALDESC:Events for ATC training
BEGIN:VEVENT
DTSTART;VALUE=DATE:20180805
DTEND;VALUE=DATE:20180813
DTSTAMP:20260423T185732
CREATED:20180624T074922Z
LAST-MODIFIED:20180624T074922Z
UID:4426-1533427200-1534118399@www.atctraining.ro
SUMMARY:SECRETARIAT INFORMATIZAT
DESCRIPTION:STRUCTURA CURSULUI DE SECRETARIAT INFORMATIZAT\n– Arhitectura calculatorului personal (modul de folosire a perifericelor folositoare în munca de secretariat)\n–  Mesageria electronică: Crearea\, transmiterea\, personalizarea semnăturii\, organizarea şi arhivarea e-mail-urilor; crearea agendei de destinatari\, transmiterea unui e-mail particularizat către mai mulţi destinatari folosind mail – merge.\n– Regăsirea rapidă a informaţiei pe Internet: Motoare de căutare pe Internet și tehnici de regăsire rapidă a informației.\n– Sistemul de gestiune a fișierelor: structura arborescentă a folderelor\, specificatorul de fișier\, tipuri uzuale de fișiere și aplicațiile cu care se pot deschide.\n– Operaţii cu foldere şi fişiere – principalele operații care se pot executa pe foldere și fișiere (creare\, redenumire\, copiere\, mutare\, ștergere\, parolare)\n– Organizarea și păstrarea în siguranță a informațiilor – salvarea informației pe diverse medii de memorare\, crearea de copii de siguranță\, folosirea programelor de arhivare și compactare\, criptarea fișierelor\, folosirea programelor antivirus.\n– Tehnici rapide de tehnoredactare folosind procesorul de texte Word – introducerea și corectarea textului\, stiluri de text și stiluri de paragraf\, crearea și folosirea șabloanelor de documente\, folosirea verificatorului ortografic\, antete și subsoluri\, aranjarea în pagină a informației\, lucrul cu tabele\, lucrul cu comentarii și modificări urmărite\, crearea de formule\, folosirea facilității de scrisori particularizate – mail merge.\n–  Proiectarea diagramelor folosind formele predefinite din Microsoft Word (scheme flux\, organigrame etc.).\n– Tehnici de operare cu programe de calcul tabelar Crearea de tabele Excel\, calcule în tabele\, folosirea formulelor de calcul\, crearea de diagrame\, inserarea simplă și cu legătură a unor plaje de celule sau a diagramelor din foi de calcul Excel în documente Word.\n–  Prezentări PowerPoint – Crearea unei prezentări folosind text\, imagini\, diagrame\, aplicând efecte asupra diapozitivelor.\n–  Rolul si locul secretarei in lumea profesionala contemporana\n– Comunicarea\n– Corespondenta ca activitate a secretariatului\n– Elemente de protocol\nBIROTICA \n\nRolul şi locul secretariatului în structura organizaţiei\nRolul şi locul secretarei / asistentului managerului\nFuncţiile secretariatului modern.\nCorespondenţa ca activitate a secretariatelor\nOrganizarea şi prelucrarea arhivei.\nManagementul documentelor: noţiuni\, definiţii\nSisteme de management al documentelor.\nUtilizarea produsului de prezentare grafică PowerPoint.\nUtilizarea produsului Windows\, a procesorului de texte Word şi Excel în tehnoredactarea informatizată.\n\nCircuitul actelor în instituţie în format electronic. \n
URL:https://www.atctraining.ro/calendar-curs/secretariat-informatizat/
LOCATION:Hotel Florida – Mamaia
END:VEVENT
END:VCALENDAR