BEGIN:VCALENDAR
VERSION:2.0
PRODID:-//ATC training - ECPv4.8.2//NONSGML v1.0//EN
CALSCALE:GREGORIAN
METHOD:PUBLISH
X-WR-CALNAME:ATC training
X-ORIGINAL-URL:https://www.atctraining.ro
X-WR-CALDESC:Events for ATC training
BEGIN:VEVENT
DTSTART;VALUE=DATE:20180913
DTEND;VALUE=DATE:20180917
DTSTAMP:20260424T052400
CREATED:20180816T073728Z
LAST-MODIFIED:20180816T075142Z
UID:4553-1536796800-1537142399@www.atctraining.ro
SUMMARY:RISCURI SI DEFICIENTE IN CONTRACTUL DE ACHIZITII PUBLICE
DESCRIPTION:Ce este neregula in contractul de achizitie publica? Tipuri de nereguli \nCine poate identifica nereguli in contractul de achizitie publica? Entitatile care au acest rol \nCare sunt consecintele unei nereguli in procesul de achizitie publica? \nCare sunt faptele autoritatii contractante generatoare de nereguli si care sunt contraventiile stabilite in cauza? \nTipul contraventiilor pentru contractele de achizitii publice din fonduri publice si /sau fonduri europene \nCe este neregula in contractul de achizitie publica din fonduri europene? Tipuri de nereguli din fonduri europene/publice \nSituatia celor mai des intalnite abateri in procesul de achizitie publica. Solutii si remedii \nCele mai frecvente incalcari ale legislatiei achizitiilor publice constatate la nivelul structurilor de specialitate din cadrul autoritatilor contractante \nErori frecvente intalnite in diferitele etape ale procesului de achizitie publica. Masuri administrative si corectiile financiare aplicabile in speta \nCine constata si aplica contraventii in procesul de achizitie publica\, conform Legii 98/2016\, in cazul contractelor de achizitie din fonduri publice? Exemple si Solutii \nCine constata si aplica corectii financiare in procesul de achizitie publica\, conform Legii 98/2016\, in cazul contractelor de achizitie din fonduri europene? Exemple si Solutii \nCum pot fi evitate contraventiile si corectiile financiare in procesul de achizitie publica? Solutii si exemple practice \n
URL:https://www.atctraining.ro/calendar-curs/riscuri-si-deficiente-in-contractul-de-achizitii-publice-2/
LOCATION:Sinaia – Hotel Cumpatu
END:VEVENT
END:VCALENDAR