BEGIN:VCALENDAR
VERSION:2.0
PRODID:-//ATC training - ECPv4.8.2//NONSGML v1.0//EN
CALSCALE:GREGORIAN
METHOD:PUBLISH
X-WR-CALNAME:ATC training
X-ORIGINAL-URL:https://www.atctraining.ro
X-WR-CALDESC:Events for ATC training
BEGIN:VEVENT
DTSTART;VALUE=DATE:20250123
DTEND;VALUE=DATE:20250127
DTSTAMP:20260423T225843
CREATED:20241205T154743Z
LAST-MODIFIED:20241205T154743Z
UID:11096-1737590400-1737935999@www.atctraining.ro
SUMMARY:RESURSE UMANE. NOUTATI LEGISLATIVE
DESCRIPTION:Elemente de noutate privind Codul muncii\, normele speciale în materie\, decizii ale ICCJ privind dezlegarea unor chestiuni de drept etc. \nÎncheierea CIM  \n– Semnatura electronică și folosirea acestea la încheierea CIM \n– Dreptul la informare al viitorilor salariați \n– Verificarea prealabilă și perioada de probă a lucrătorilor \nClauzele CIM \n– Cauze obligatorii \n– Clauze negociabile \n– Clauze interzise \nÎncetarea CIM \n– Concedierea – procedura în funcție de tipurile de concediere\, decizia și contestarea \n– Demisia – drepturi  și obligații ale lucrătorului și angajatorului \n– Încetarea de drept – cazuri \nRegulamentul intern \n– Conținut \n– Elemente obligatorii privind hărțuirea\, discriminarea și egalitatea de șanse \nRăspunderea disciplinară \n– Procedura răspunderii \n– Decizia de sancționare – conținut\, comunicare și contestare \nDiscuții și răspuns la întrebări referitoare la relația de muncă \nCursul va fi interactiv\, astfel pe parcursul prezentarii se vor prezenta exemple si studii de caz in functie de interesul acordat de participanti asupra unui subiect anume si vor avea loc dezbateri asupra spetelor ridicate de acestia \n
URL:https://www.atctraining.ro/calendar-curs/resurse-umane-noutati-legislative-4/
LOCATION:Hotel Excelsior/ Hotel Palace Sinaia
END:VEVENT
END:VCALENDAR