BEGIN:VCALENDAR
VERSION:2.0
PRODID:-//ATC training - ECPv4.8.2//NONSGML v1.0//EN
CALSCALE:GREGORIAN
METHOD:PUBLISH
X-WR-CALNAME:ATC training
X-ORIGINAL-URL:https://www.atctraining.ro
X-WR-CALDESC:Events for ATC training
BEGIN:VEVENT
DTSTART;VALUE=DATE:20180808
DTEND;VALUE=DATE:20180813
DTSTAMP:20260423T190156
CREATED:20180624T080642Z
LAST-MODIFIED:20180624T080642Z
UID:4441-1533686400-1534118399@www.atctraining.ro
SUMMARY:NOUTATI PRIVIND RAPORTURILE DE MUNCA. MODIFICARI SI INTERPRETARI ALE LEGISLATIEI MUNCII
DESCRIPTION:\n\n\n\n\n  \nA.    Noutati ale reglementarii raporturilor de munca\nNoutati privind recentele modificari ale Codului muncii\, Legea privind Telemunca dar si obligatiile angajatorului privind aplicarea Regulamentul european privind protectia datelor cu caracter personal (GDPR). \nB.    Discutii privind impactul Inteligentei artificiale(IA) in relatiile de munca si  protectia datelor cu caracter personal \n1. Decizii pronuntate de Inalta Curte de Casatie si Justitie pentru dezlegarea unor chestiuni de drept.\n2. Decizii ale Curtii Constitutionale.\n3. Unificarea interpretarilor unor texte din legislatia muncii – prin recursuri in interesul legii\n4. Modificari ale actelor normative ce privesc raporturile de munca\nB.    Discutii practice privind incheierea si executarea contractului individual de munca\n1. Incheierea CIM – partea legala\, obligatia de informare a CIM\, conditii de valabilitate a CIM\n2. Perioada de proba si stagiul\n3. Clauze ce pot fi negociate in CIM\n4. Clauze nelagale\n5. Timp de munca\, concediul de odihna – programare si plata\nC.    Discutii practice privind modificarea si suspendarea contractului individual de munca\n1. Obligatiile angajatorului privind modificarea CIM\n2. Cauze de suspendare a CIM\nD.    Discutii practice privind incetarea contractului individual de munca\n1. Cauze de incetare de drept a CIM\n2. Concedierea – cazuri si preaviz.\n5. Demisia\, preavizul si obligatiile angajatorului in ce priveste demisia salariatului.\nE.    Discutii practice privind raspunderea juridica\n1. Raspunderea disciplinara: regulamentul intern – redactare si norme obligatorii\, abaterile discialinare\, convocarea salariatului\, cercetarea si decizia de sanctionare – inregistrare\, efecte si termene.\n2. Raspunderea pentru daune – posibilitatea recuperarii prejudiciului\, retinerile din salariu\, termene\nF.    Discutii practice privind jurisdictia muncii    \n1. Contestarea deciziilor si reintegrarea salariatului\n2. Instantele competente si modul de solutionare a litigiilor \nG.    Discutii si analize pe cazuri \nCursul va fi interactiv\, astfel pe parcursul prezentarii se vor prezenta exemple si studii de caz in functie de interesul acordat de participanti asupra unui subiect anume si vor avea loc dezbateri asupra spetelor ridicate de acestia.\n\n\n\n\n\n 
URL:https://www.atctraining.ro/calendar-curs/noutati-privind-raporturile-de-munca-modificari-si-interpretari-ale-legislatiei-muncii-3/
LOCATION:Jupiter – Hotel Majestic
END:VEVENT
END:VCALENDAR