BEGIN:VCALENDAR
VERSION:2.0
PRODID:-//ATC training - ECPv4.8.2//NONSGML v1.0//EN
CALSCALE:GREGORIAN
METHOD:PUBLISH
X-WR-CALNAME:ATC training
X-ORIGINAL-URL:https://www.atctraining.ro
X-WR-CALDESC:Events for ATC training
BEGIN:VEVENT
DTSTART;VALUE=DATE:20250109
DTEND;VALUE=DATE:20250113
DTSTAMP:20260423T172701
CREATED:20240913T114647Z
LAST-MODIFIED:20241203T142147Z
UID:10824-1736380800-1736726399@www.atctraining.ro
SUMMARY:MANAGEMENTUL PROIECTELOR
DESCRIPTION:Sesiune introductiva – prezentare participanti si curs. Abordari si concepte folosite in accesarea si implementarea fondurilor europene \nPrezentare documentatiei relevante pentru finantarea europeana si a disponibilitatii informatiilor pentru scrierea si implementarea proiectelor: ghiduri\, manuale de implementare\, regulamente europene\, conditionalitati ex – ante\, recomandari strategice de tara\, manuale de bune practici etc. \nArhitectura Fondurilor Europene Structurale si de Investitii (FESI). Identificarea si analiza prioritatilor in finantarea proiectelor \nRolul consultantului in dezvoltarea\, scrierea si implementarea proiectelor. Integrarea strategica a initiativelor de proiecte la nivelul institutiilor publice si private. Avantajele parteneriatelor in proiecte. \nIntegrarea noilor teme orizontale in managementul proiectelor. Prevederi specifice\, cadrul legislativ\, corelatii cu evolutia indicatorilor de referinta. \nElaborarea si depunerea proiectelor. Tipologia competitiilor\, calendarul depunerilor\, comunicarea cu AM / OI; \nContractarea proiectelor. Aspecte procedurale si operationale privind contractul de finantare\, acordul de parteneriat si anexele specifice. \nManagementul timpului in implementarea proiectelor: actualizarea documentatiei\, corelatia cu alte categorii de resurse si specificul activitatilor organizatiei. \nManagementul financiar al proiectelor pe durata de implementare. Reguli si documente de raportare (intermediare\, de progres\, financiare\, finale). Aspecte specifice privind cererea de plata si cererile de rambursare \nManagementul echipei de proiect. Contractarea echipei\, roluri\, responsabilitati si atributii\, modul de raportare al activitatilor. Elaborarea manualului de proceduri pentru implementare\, comunicarea in cadrul echipei si in organizatie. \nTipologia si modul de realizare a schimbarilor in structura proiectelor pe durata de implementare. \nMonitorizarea si evaluarea proiectelor pe baza rezultatelor si indicatorilor de rezultat. \nPromovarea si publicitatea in cadrul proiectelor. Reguli si restrictii pe durata de implementare. \nInchiderea proiectelor. Rolul si responsabilitati\, evitarea neregulilor. \nSustenabilitatea proiectelor. \nFactori de success in implementarea proiectelor. \n
URL:https://www.atctraining.ro/calendar-curs/managementul-proiectelor-16/
LOCATION:Hotel Excelsior/ Hotel Palace Sinaia
END:VEVENT
END:VCALENDAR