BEGIN:VCALENDAR
VERSION:2.0
PRODID:-//ATC training - ECPv4.8.2//NONSGML v1.0//EN
CALSCALE:GREGORIAN
METHOD:PUBLISH
X-WR-CALNAME:ATC training
X-ORIGINAL-URL:https://www.atctraining.ro
X-WR-CALDESC:Events for ATC training
BEGIN:VEVENT
DTSTART;VALUE=DATE:20180708
DTEND;VALUE=DATE:20180716
DTSTAMP:20260425T181539
CREATED:20180606T065940Z
LAST-MODIFIED:20180606T065940Z
UID:4354-1531008000-1531699199@www.atctraining.ro
SUMMARY:MANAGEMENTUL PREVENIRII SI COMBATERII CORUPTIEI; EVITAREA ABUZULUI IN SERVICIU implementarea sistemului de control antifrauda\, etica si integritate
DESCRIPTION:PARTEA I \n\nDefinirea eticii si integritatii\n\n– introducere in terminologia specifica eticii; exemple; \n– definirea conformitatii si stabilirea diferentelor intre etica si conformitate; exemple; \n– definitia integritatii si relatia dintre etica si integritate; \n– integritatea –  un \,\,monopol” al administratiei publice? \n– studii de caz. \n\nCultura etica\n\n– definirea culturii etice si a principalelor componente ale acesteia; \n– Tonul la varf (Tone at the Top) si importanta acestuia; exemple; \n– guvernanta corporativa la entitatile publice; \n– codul de conduita (codul de etica); abordari privind intocmirea unui cod de conduita si exemple; \n– gestionarea resurselor umane din punct de vedere al eticii si motivarea personalului; \n– gestionarea conflictelor de interese si incompatibilitatilor; \n– sistemul de raportare a iregularitatilor. \n\nEtica si integritatea – parte a sistemului de control intern/managerial\n\n– ce este controlul intern si importanta acestuia pentru organizatii; \n– modele de control intern – COSO\, CoCo; \n– etica si integritatea ca parte a mediului de control; \n– Codul controlului intern/managerial la entitatile publice; \n– Standardul 1 Etica si integritatea; \n– exemplu de implementare a Standardului 1 intr-o entitate publica. \n\nConsilierea etica a personalului\n\n– ce inseamna\, practic\, consilierea etica; \n– dilema etica si modalitati de rezolvare; exemple practice de dileme etice; \n– care este rolul si ce atributii are consilierul de etica ? \n– cum se asigura consilierea etica tuturor categoriilor de personal; \n– exemplu de organizare a institutiei consilierului de etica la o entitate publica. \n\nConflicte de interese si incompatibilitati\n\n– definirea conflictului de interese; \n– conflictul de interese administrativ si conflictul de interese penal; studii de caz; \n– definirea incompatibilitatilor; exemple; \n\nProgramul de prevenire si combatere a coruptiei (programul de integritate)\n\n– elementele unui program de prevenire si combatere a coruptiei; \n– modalitati practice de implementare a programului de etica si integritate; \n– programul de integritate – instrument de construire a culturii etice si anticoruptie; \n– exemplu practic de plan de integritate al unei entitati publice. \n\nDezbateri si studii de caz personalizate\n\n– libere pe subiectele propuse de participanti in legatura cu temele cursului; \n– analiza si solutionarea problemelor practice propuse de participanti; \n– dezbaterea studiilor de caz propuse de participanti \n  \nPARTEA II \n\nDefinirea fraudei\n\n– definirea fraudei; \n– frauda ca abatere de la etica si conformitate; \n– frauda vs. eroare neintentionata \n– tipuri de frauda; exemple. \n\nPortretul fraudatorului\n\n– triunghiul fraudei (The Fraud Triangle); \n– motivatiile persoanelor care fraudeaza; \n– oportunitatea de a frauda si gestionarea sa; \n– cum isi justifica fraudatorii actiunile? \n– cum recunoastem fraudatorul tipic – un posibil portret robot; \n– exemple si studii de caz. \n\nIncriminarea fraudei din punct de vedere civil si penal\n\n– aspecte civile si penale privind frauda; \n– raspunderea civila (raspunderea delictuala\, raspunderea contractuala\, raspunderea patrimoniala); \n– raspunderea penala; \n– infractiuni specifice din Codul penal roman (infractiuni contra patrimoniului\, infractiuni de fals\, infractiuni de serviciu si de coruptie etc.); \n– exemple si studii de caz \n\nIdentificarea fraudelor\n\n– definirea criteriilor semnal (Red Flags); \n– clasificarea indiciilor de frauda; \n– cum identificam indiciile\, de la anomalii contabile la \,\,ponturi”? \n
URL:https://www.atctraining.ro/calendar-curs/managementul-prevenirii-si-combaterii-coruptiei-evitarea-abuzului-in-serviciu-implementarea-sistemului-de-control-antifrauda-etica-si-integritate/
LOCATION:Hotel Florida – Mamaia
END:VEVENT
END:VCALENDAR