BEGIN:VCALENDAR
VERSION:2.0
PRODID:-//ATC training - ECPv4.8.2//NONSGML v1.0//EN
CALSCALE:GREGORIAN
METHOD:PUBLISH
X-WR-CALNAME:ATC training
X-ORIGINAL-URL:https://www.atctraining.ro
X-WR-CALDESC:Events for ATC training
BEGIN:VEVENT
DTSTART;VALUE=DATE:20180718
DTEND;VALUE=DATE:20180723
DTSTAMP:20260424T234800
CREATED:20180604T064344Z
LAST-MODIFIED:20180604T064344Z
UID:4285-1531872000-1532303999@www.atctraining.ro
SUMMARY:MANAGEMENTUL INVESTITIILOR SI AL PROIECTELOR DE INVESTITII
DESCRIPTION:\nConceptul de investitie\, schema procesului investitional;\nPolitici si strategii investitionale;\nNecesitatea si oportunitatea investitiei\nConceptul de management al investitiilor\nFundamentarea deciziei de investitii\nTipuri de decizii in managementul investitiilor\nUtilizarea metodelor si a tehnicilor moderne de planificare a investitiilor si de management a proiectelor;\nCadrul legal pentru atribuirea lucrarilor de investitii;\nParticularitati in evaluarea proiectelor de investitii;\nEvaluarea fezabilitatii financiare\, economice\, sociale\, tehnice si de mediu a proiectelor de investitii.\nManagementul riscurilor in procesul investitional;\nPregatirea documentatiilor\, obtinerea avizelor necesare promovarii investitiilor;\nNoile exigente necesare elaborarii documentatiilor tehnico-economice;\nDocumentatia in proiectele de investitii;\nEstimarea valorii totale a investitiei;\nAvize\, acorduri si autorizatii;\nElaborarea devizului general pentru obiective de investitii;\nContractarea serviciilor de proiectare si a lucrarilor de executie;\nProbleme patrimoniale si cadastrale;\nAnaliza cost-beneficiu;\nTehnici de evaluare ai investitiilor;Indicatorii de evaluare a eficientei investitiilor;\nReceptia obiectivelor de investitii;Urmarirea comportarii in exploatare a obiectivelor de investitii\n\nCursul va fi interactiv\, astfel pe parcursul prezentarii se vor prezenta exemple si studii de caz in functie de interesul acordat de participanti asupra unui subiect anume si vor avea loc dezbateri asupra spetelor ridicate de acestia. \n
URL:https://www.atctraining.ro/calendar-curs/managementul-investitiilor-si-al-proiectelor-de-investitii-8/
LOCATION:Jupiter – Hotel Majestic
END:VEVENT
END:VCALENDAR