BEGIN:VCALENDAR
VERSION:2.0
PRODID:-//ATC training - ECPv4.8.2//NONSGML v1.0//EN
CALSCALE:GREGORIAN
METHOD:PUBLISH
X-WR-CALNAME:ATC training
X-ORIGINAL-URL:https://www.atctraining.ro
X-WR-CALDESC:Events for ATC training
BEGIN:VEVENT
DTSTART;VALUE=DATE:20181108
DTEND;VALUE=DATE:20181112
DTSTAMP:20260425T213144
CREATED:20180919T050214Z
LAST-MODIFIED:20180919T050214Z
UID:4698-1541635200-1541980799@www.atctraining.ro
SUMMARY:MANAGEMENTUL GESTIUNII ŞI ARHIVĂRII DOCUMENTELOR gestiunea și protecția bazelor de date\, proceduri de lucru şi raportări; arhivarea electronică
DESCRIPTION:\n\n\nTEMATICA CURSULUI: \nØ  Norme si prevederi legale privind gestionarea si arhivarea documentelor pe domenii de activitate; Normele privind arhivarea si pastrarea registrelor de contabilitate si a celorlalte documente financiar-contabile\, aprobate prin OMFP nr. 2634/2015\, in vigoare de la 1 ianuarie 2016. \nØ  Crearea si clasificarea documentelor\, procedurile de lucru si circuitul documentelor pentru fiecare organizatie in parte\, aplicatii practice. \nØ  Obligatia legala incepand cu anul 2016\, privind documentele care pot fi arhivate atat pe suport hartie\, cat si pe suport electronic; pastrarea\, arhivarea si casarea documentelor pe hartie. \nØ  Particularitati si obligatii ale operatorilor economici autorizati in prestarea de servicii arhivistice. \nØ  Termene de pastrare a documentelor; obligatiile legale si raspunderea juridica privind gestionarea documentelor pe suport de hartie. \nØ  Regimul juridic aplicabil documentelor arhivate electronic\, al crearii unei arhive electronice\, (Document management system – DMS). \nØ  Regimul juridic al arhivarii si pastrarii registrelor si a documentelor financiar-contabile etc. \nØ  Documentele financiar-contabile ce pot fi arhivate electronic\, pregatirea lor pentru arhivare electronica\, gestiunea lor; obligatii prevazute de art.109\, din Codul de procedura fiscala.\nØ  Furnizarea documentelor in forma electronica pentru arhivarea electronica; conditiile ce trebuiesc indeplinite de un document in forma electronica pentru a fi arhivat electronic; crearea arhivei electronice\, tehnicile si etapele arhivarii electronice\, intocmirea/modificarea nomenclatorului arhivistic; obligatiile furnizorului de servicii de arhivare electronica. \nØ  Consultarea arhivei electronice – selectarea dreptului de acces\, eliberarea copiilor\, certificatelor si extraselor; eficienta utilizarii arhivarii electronice. Sistemul de cautari si raportari al DOCUMENT MANAGEMENT SYSTEM – DMS; obligatiile legale si raspunderea privind gestionarea informatica a documentelor; avantaje si argumente pentru utilizarea DMS; fluxuri de documente; \nØ  Recomandari practice privind recuperarea si salvarea arhivei in caz de necesitate. \nØ  Securitatea datelor ca parte a sistemului de management al securitatii\, semnatura digitala. \nØ  Raspunderi si responsabilitati legale ale compartimentelor de specialitate precum si personale. \nØ  Gestionarea documentelor si managementul modern al organizatiei\, raspundere\, control si evaluare managerialaeconomic. Finalizarea unui contract FIDIC; \nØ  Solutionarea disputelor si reguli de arbitrare UNCITRAL.\n\n\n\n 
URL:https://www.atctraining.ro/calendar-curs/managementul-gestiunii-si-arhivarii-documentelor-gestiunea-si-protectia-bazelor-de-date-proceduri-de-lucru-si-raportari-arhivarea-electronica-2/
LOCATION:Sinaia: Hotel Rina Sinaia
END:VEVENT
END:VCALENDAR