BEGIN:VCALENDAR
VERSION:2.0
PRODID:-//ATC training - ECPv4.8.2//NONSGML v1.0//EN
CALSCALE:GREGORIAN
METHOD:PUBLISH
X-WR-CALNAME:ATC training
X-ORIGINAL-URL:https://www.atctraining.ro
X-WR-CALDESC:Events for ATC training
BEGIN:VEVENT
DTSTART;VALUE=DATE:20250109
DTEND;VALUE=DATE:20250113
DTSTAMP:20260423T213606
CREATED:20241205T153938Z
LAST-MODIFIED:20241205T153938Z
UID:11086-1736380800-1736726399@www.atctraining.ro
SUMMARY:IMPLEMENTAREA STRATEGIEI NATIONALE ANTICORUPTIE 2021-2025
DESCRIPTION:Discutii privind HOTĂRÂREA nr. 1.269 din 17 decembrie 2021 privind aprobarea Strategiei naționale anticorupție 2021-2025 și a documentelor aferente acesteia \nStrategia Nationala Anticoruptie 2021 – 2025:\n• Consideratii generale.\n• Pilonii strategiei.\n• Principii.\n• Fenomenul coruptiei in context national si international.\n• Cercetari sociologice referitoare la fenomenul coruptiei.\n• Limite de actiune ce afecteaza capacitatea nationala de prevenire si combatere a coruptiei.\nMasuri de transparenta institutionala si de prevenire a coruptiei:\n• Cod etic/deontologic/de conduita.\n• Consilierul de etica.\n• Declararea cadourilor.\n• Declararea averilor si intereselor.\n• Conflictele de interese.\n• Incompatibilitati.\n• Interdictii dupa incheierea angajarii in cadrul institutiilor publice (pantouflage).\n• Transparenta in procesul decizional.\n• Accesul la informatii de interes public.\n• Protectia avertizorului in interes public; Reglementari europene.\n• Functii sensibile.\n• Riscuri si vulnerabilitati la coruptie in administratia publica.\nSectoare prioritare:\n• Sistemul public de sanatate.\n• Sistemul national de educatie.\n• Mediul de afaceri.\n• Domeniul achizitiilor publice.\n• Finantarea partidelor politice si a campaniilor electorale.\n• Activitatea membrilor parlamentului.\n• Domeniul protectiei mediului inconjurator.\n• Protejarea patrimoniului cultural.\nObiective generale si directii de actiune ale SNA 2021 – 2025.\nDeclaratia de adeziune la obiectivele SNA.\nPlanul de integritate.\nSeturile de indicatori de performanta\, riscurile asociate obiectivelor si masuri\nEtica si integritatea – parte a sistemului de control intern/managerial\nConsilierea etica a personalului\nConflicte de interese si incompatibilitati\nSistemul de raportare a iregularitatilor\nCe este coruptia ?\nMasuri practice pentru implementarea strategiilor nationale anticoruptie intr-o entitate publica\nAspecte practice privind implementarea masurilor de transparenta institutionala si de prevenire a coruptiei\nAspecte specifice implementarii prevederilor HG nr. 599/2018 \nDezbateri si studii de caz personalizate\n– discutii libere pe subiectele propuse de participanti in legatura cu temele cursului;\n– analiza si solutionarea problemelor practice propuse de participanti;\n– dezbaterea studiilor de caz propuse de participanti. \n
URL:https://www.atctraining.ro/calendar-curs/implementarea-sna-2021-2025/
LOCATION:Hotel Excelsior/ Hotel Palace Sinaia
END:VEVENT
END:VCALENDAR