BEGIN:VCALENDAR
VERSION:2.0
PRODID:-//ATC training - ECPv4.8.2//NONSGML v1.0//EN
CALSCALE:GREGORIAN
METHOD:PUBLISH
X-WR-CALNAME:ATC training
X-ORIGINAL-URL:https://www.atctraining.ro
X-WR-CALDESC:Events for ATC training
BEGIN:VEVENT
DTSTART;VALUE=DATE:20241212
DTEND;VALUE=DATE:20241216
DTSTAMP:20260424T022930
CREATED:20241112T142443Z
LAST-MODIFIED:20241112T142443Z
UID:10983-1733961600-1734307199@www.atctraining.ro
SUMMARY:IMPLEMENTAREA PROIECTELOR FINANTATE PRIN PNRR
DESCRIPTION:Cadrul legislativ\n• Scopul cunoaşterii şi aplicării legislaţiei în vigoare\n• Structura şi conţinutul legislaţiei europene şi naţionale specifică PNRR: Regulamente europene\, legislaţie naţională cu caracter general şi specific\nCadrul instituţional al PNRR\n• Instituţii cu rol de coordonare\, gestionare şi control\n• Documente\, responsabilităţi şi proceduri\nReguli generale de eligibilitate a proiectului/activităţilor/cheltuielilor\n• Legislaţia specifică privind eligibilitatea: structură\, conţinut\, prevederi\n• Eligibilitatea proiectului/activităţilor\n• Eligibilitatea cheltuielilor\n• Cheltuieli eligibile/neeligibile\n• Verificari privind respectarea principiului DNSH (Do No Significant Harm)\nFluxul financiar al fondurilor\n• Fluxul de documente: Responsabilităţi privind circuitul documentelor\, structura şi conţinutul documentelor\n• Fluxul de fonduri: Responsabilităţi privind fluxul de fonduri\, asigurarea fondurilor necesare efectuării plăţilor\nPlanificarea bugetară a fondurilor\n• Instrumente de planificare a fondurilor:\no Planul financiar\, fluxul de numerar previzionat\, planificarea activităţilor\n• Realizarea bugetului proiectului: fluxul financiar şi de numerar al proiectului\, reguli generale privind raportarea finanţărilor din PNRR\nMecanisme de plăţi\n• Reglementări şi reguli privind efectuarea plăţilor\n• Tipuri de plăţi\n• Documente justificative pentru efectuarea plăţilor\nContabilitate\, control si audit\nErori frecvente \nStudii de caz\, discutii libere si solutii practice la problemele ridicate de participanti.STUDII DE CAZ\, la propunerile participanților\, răspunsuri la întrebări și spete \n
URL:https://www.atctraining.ro/calendar-curs/implementarea-proiectelor-finantate-prin-pnrr-14/
LOCATION:Hotel Excelsior/ Hotel Palace Sinaia
END:VEVENT
END:VCALENDAR