BEGIN:VCALENDAR
VERSION:2.0
PRODID:-//ATC training - ECPv4.8.2//NONSGML v1.0//EN
CALSCALE:GREGORIAN
METHOD:PUBLISH
X-WR-CALNAME:ATC training
X-ORIGINAL-URL:https://www.atctraining.ro
X-WR-CALDESC:Events for ATC training
BEGIN:VEVENT
DTSTART;VALUE=DATE:20241121
DTEND;VALUE=DATE:20241125
DTSTAMP:20260424T010315
CREATED:20241031T131326Z
LAST-MODIFIED:20241031T131326Z
UID:10948-1732147200-1732492799@www.atctraining.ro
SUMMARY:IMPLEMENTAREA PROIECTELOR FINANTATE PRIN PNRR
DESCRIPTION:Cadrul legislativ\n• Scopul cunoaşterii şi aplicării legislaţiei în vigoare\n• Structura şi conţinutul legislaţiei europene şi naţionale specifică PNRR: Regulamente europene\, legislaţie naţională cu caracter general şi specific\nCadrul instituţional al PNRR\n• Instituţii cu rol de coordonare\, gestionare şi control\n• Documente\, responsabilităţi şi proceduri\nReguli generale de eligibilitate a proiectului/activităţilor/cheltuielilor\n• Legislaţia specifică privind eligibilitatea: structură\, conţinut\, prevederi\n• Eligibilitatea proiectului/activităţilor\n• Eligibilitatea cheltuielilor\n• Cheltuieli eligibile/neeligibile\n• Verificari privind respectarea principiului DNSH (Do No Significant Harm)\nFluxul financiar al fondurilor\n• Fluxul de documente: Responsabilităţi privind circuitul documentelor\, structura şi conţinutul documentelor\n• Fluxul de fonduri: Responsabilităţi privind fluxul de fonduri\, asigurarea fondurilor necesare efectuării plăţilor\nPlanificarea bugetară a fondurilor\n• Instrumente de planificare a fondurilor:\no Planul financiar\, fluxul de numerar previzionat\, planificarea activităţilor\n• Realizarea bugetului proiectului: fluxul financiar şi de numerar al proiectului\, reguli generale privind raportarea finanţărilor din PNRR\nMecanisme de plăţi\n• Reglementări şi reguli privind efectuarea plăţilor\n• Tipuri de plăţi\n• Documente justificative pentru efectuarea plăţilor\nContabilitate\, control si audit\nErori frecvente \n
URL:https://www.atctraining.ro/calendar-curs/implementarea-proiectelor-finantate-prin-pnrr-13/
LOCATION:Hotel Excelsior/ Hotel Palace Sinaia
END:VEVENT
END:VCALENDAR