BEGIN:VCALENDAR
VERSION:2.0
PRODID:-//ATC training - ECPv4.8.2//NONSGML v1.0//EN
CALSCALE:GREGORIAN
METHOD:PUBLISH
X-WR-CALNAME:ATC training
X-ORIGINAL-URL:https://www.atctraining.ro
X-WR-CALDESC:Events for ATC training
BEGIN:VEVENT
DTSTART;VALUE=DATE:20180913
DTEND;VALUE=DATE:20180917
DTSTAMP:20260424T065902
CREATED:20180816T074157Z
LAST-MODIFIED:20180816T075124Z
UID:4556-1536796800-1537142399@www.atctraining.ro
SUMMARY:GESTIUNEA SI ADMINISTRAREA PATRIMONIULUI PUBLIC SI PRIVAT AL STATULUI SI AL UNITATILOR ADMINISTRATIV – TERITORIALE
DESCRIPTION:Aprobarea inventarului centralizat al bunurilor din domeniul public al statului conform Legii nr.224/2016 pentru modificarea si completarea Legii nr. 213/1998 privind bunurile proprietate publica; \nHG nr.675/2017 si 706/2017 privind actualizarea anexelor la HG nr. 1.705/2006. \nDomeniul public al statului si al unitatilor administrativ-teritoriale. \nDreptul de administrare\, regimul juridic si inventarul bunurilor care fac parte din domeniul public al statului si al unitatilor administrativ-teritoriale. \nInchirierea si concesionarea bunurilor din domeniul public al statului si al unitatilor administrativ-teritoriale. Trecerea bunurilor din domeniul public al statului si al unitatilor administrativ-teritoriale in domeniul privat al statului si al unitatilor administrativ-teritoriale si invers; \nTransmiterea fara plata si valorificarea bunurilor apartinând institutiilor publice; \nSchimbarea dreptului de administrare al bunurilor. Analiza In baza Catalogului privind clasificarea si duratele normale de functionare a mijloacelor fixe: Incadrare si aplicabilitate. \nPrioritizarea proiectelor de investitii publice; \nInitierea\, elaborarea si analiza documentatiei tehnico – economice aferente obiectivelor de investitii publice; Receptia lucrarilor de constructii si a instalatiilor aferente acestora. Aspecte patrimoniale la elaborarea Programului anual al achizitiilor publice. \nAtribuirea contractelor de achizitii publice de lucrari\, bunuri si prestari de servicii\, tinând cont de administrarea si gestiunea patrimoniului existent si nevoile viitoare; Regimul juridic aplicabil acestor contracte. \nContabilitatea patrimoniului public: \n\nevaluarea initiala\, cheltuieli ulterioare\, reevaluare\, ajustari pentru depreciere; bugetarea pe programe;\ninventarierea patrimoniului si valorificarea rezultatelor inventarierii si Inregistrarea In contabilitate a rezultatelor; ● aducerea valorii contabile a bunurilor aflate In patrimoniul institutiilor publice la valoarea justa;\nangajarea\, lichidarea\, ordonantarea si plata cheltuielilor ce tin de evidenta\, intrari/iesiri si gestiunea patrimoniului; ● declasarea/casarea si scoaterea din functiune a activelor fixe\, precum si valorificarea acestora. Limitele legale si conditiile de acordare a perisabilitatilor\, acolo unde este cazul; valorificarea bunurilor\, apartinând institutiilor publice\, scoase din functiune;\ndocumentele justificative financiar-contabile care stau la baza intrarii/scoaterii de bunuri din gestiune; activitatea si raspunderea gestionarilor. Contabilitatea stocurilor: evaluarea initiala\, evaluarea la iesirea din gestiune\, ajustari pentru depreciere.\n\nContabilitatea furnizorilor\, debitori\, clienti\, acreditive\, creditori\, sume In curs de clarificare. Alte aspecte de interes privind Intocmirea situatiilor financiare. \nAspecte fiscale privind gestionarea patrimoniului In conformitate cu prevederile Noului Cod Fiscal. \nOrganizarea si exercitarea controlului financiar preventiv asupra gestiunii patrimoniului si a proiectelor initiate de compartimentele functionale ale autoritatii; cele 4 faze ale executiei bugetare a unei cheltuieli. \nCategoriile de persoane si atributiile in gestionarea patrimoniului public si respectiv privat al statului. \nReguli specifice privind gestionarea parcului auto. \nNoua platforma a achizitiilor publice de la SEAP la SICAP Raspunderea legala privind gestionarea si administrarea patrimoniului institutiilor publice; atributii si responsabilitati; \nAplicatii practice si studii de caz\, In baza celor mai noi completari si modificari legislative (Noul Cod fiscal si Noul Cod de procedura fiscala). \n
URL:https://www.atctraining.ro/calendar-curs/gestiunea-si-administrarea-patrimoniului-public-si-privat-al-statului-si-al-unitatilor-administrativ-teritoriale-2/
LOCATION:Sinaia – Hotel Cumpatu
END:VEVENT
END:VCALENDAR