BEGIN:VCALENDAR
VERSION:2.0
PRODID:-//ATC training - ECPv4.8.2//NONSGML v1.0//EN
CALSCALE:GREGORIAN
METHOD:PUBLISH
X-WR-CALNAME:ATC training
X-ORIGINAL-URL:https://www.atctraining.ro
X-WR-CALDESC:Events for ATC training
BEGIN:VEVENT
DTSTART;VALUE=DATE:20250123
DTEND;VALUE=DATE:20250127
DTSTAMP:20260424T002407
CREATED:20241205T154928Z
LAST-MODIFIED:20241205T154928Z
UID:11098-1737590400-1737935999@www.atctraining.ro
SUMMARY:Gestiunea si administrarea patrimoniului public si privat al statului
DESCRIPTION:1. Managementul patrimoniului public si privat al statului: continutul\, formarea\, administrarea si evidenta patrimoniului public si privat al statului;\n2. Analiza patrimoniului public din punct de vedere al continutului juridic\, economic\, administrativ si financiar;\n3. Formarea si administrarea patrimoniului public;\n4. Domeniul public al statului si al U.A.T. – unitatilor administrativ – teritoriale;\n5. Regimul juridic al bunurilor care fac parte din domeniul public al statului si al unitatilor administrativ-teritoriale;\n6. Schimbarea dreptului de administrare al bunurilor din domeniul public al statului si al unitatilor administrativ- teritoriale;\n7. Inchirierea si concesionarea bunurilor din domeniul public al statului si al unitatilor administrativ-teritoriale\n8. Conditiile si procedurile de transmitere\, fara plata\, de la o institutie publica la alta institutie publica a unor bunuri aflate in stare de functionare;\n9. Scoatere din functiune\, casare si valorificare a activelor corporale care alcatuiesc domeniul public al statului si al unitatilor administrativ-teritoriale\n10. Valorificarea bunurilor scoase din functiune apartinand institutiilor publice.\n11. Documentele justificative financiar-contabile care stau la baza intrarii/scoaterii de bunuri din gestiune.\n12. Reguli de evaluare a bunurilor la intrarea/iesirea din patrimonial institutiilor publice;\n13. Reguli de evaluare in bilantul contabil;\n14. Inventarul bunurilor din domeniul public al statului si al unitatilor administrativ-teritoriale;\n15. Inventarierea patrimoniului si valorificarea rezultatelor inventarierii; inregistrarea in contabilitate a rezultatelor inventarierii patrimoniului;\n16. Transmiterea fara plata si valorificarea bunurilor apartinand institutiilor publice;\n17. Fundamentarea bugetului de venituri si cheltuieli al unei institutii publice. Virari de credite bugetare;\n18. Metodologia elaborarii devizului general pentru obiective de investitii si lucrari de interventii;\n19. Bugetarea pe programe; regulamentul operatiunilor de casa;\n20. Contabilitatea patrimoniului public – atributii si responsabilitati.\n21. Rolul controlului financiar preventiv in apararea integritatii patrimonilui public;\n22. Raportarea patrimoniului public in situatiile financiare ale institutiilor publice.\n23.  Raspunderea legala privind gestionarea si administrarea patrimoniului institutiilor publice; atributii si responsabilitati; aplicatii practice si studii de caz\, in baza celor mai noi completari si modificari legislative (Noul Cod Administrativ\, Codul fiscal si Codul de procedura fiscala).\n24. Noul Cod administrativ; H.G. nr.454/2019 din 3 iulie 2019 privind modificarea si completarea Normelor metodologice de aplicare a Ordonantei Guvernului nr. 14/2007 pentru reglementarea modului si conditiilor de valorificare a bunurilor intrate\, potrivit legii\, in proprietatea privata a statului. Ordinul Presedintelui ANAF nr. 1080/2019 pentru stabilirea competentei privind preluarea si valorificarea bunurilor intrate in proprietatea privata a statului; OMFP nr. 1673/2017 privind guvernanta corporativa a intreprinderilor publice; Legea nr.224/2016 privind bunurile proprietate publica; HG nr.675/2017 si 706/2017 privind actualizarea anexelor la HG nr. 1.705/2006; completarea in 2018\, a Legii nr.213/1998 privind bunurile proprietate publica. \nSTUDII DE CAZ\, DISCUTII\, SPETE. \n
URL:https://www.atctraining.ro/calendar-curs/gestiunea-si-administrarea-patrimoniului-public-si-privat-al-statului-26/
LOCATION:Hotel Excelsior/ Hotel Palace Sinaia
END:VEVENT
END:VCALENDAR