BEGIN:VCALENDAR
VERSION:2.0
PRODID:-//ATC training - ECPv4.8.2//NONSGML v1.0//EN
CALSCALE:GREGORIAN
METHOD:PUBLISH
X-WR-CALNAME:ATC training
X-ORIGINAL-URL:https://www.atctraining.ro
X-WR-CALDESC:Events for ATC training
BEGIN:VEVENT
DTSTART;VALUE=DATE:20240919
DTEND;VALUE=DATE:20240923
DTSTAMP:20260424T053049
CREATED:20240807T140320Z
LAST-MODIFIED:20240807T140320Z
UID:10687-1726704000-1727049599@www.atctraining.ro
SUMMARY:Evaluarea Sistemului de Prevenire a Corupției în Cadrul Misiunilor de Audit
DESCRIPTION:Corupția reprezintă o problemă majoră care afectează economiile și societățile din întreaga lume\, având efecte asupra dezvoltării durabile și a integrității instituționale. În acest context\, evaluarea sistemelor de prevenire a corupției în cadrul misiunilor de audit devine esențială pentru asigurarea transparenței și responsabilizării în procesul de luare a deciziilor și gestionarea resurselor publice.\nI. Rolul auditului în prevenirea corupției\nAuditul\, în calitate de instrument de evaluare a performanțelor\, poate contribui semnificativ la prevenirea corupției prin identificarea potențialelor riscuri și vulnerabilități. Un audit eficient și riguros poate contribui la:\nIdentificarea deficiențelor și a posibilelor riscuri de corupție în cadrul proceselor și procedurilor organizaționale.\nRecomandarea unor măsuri de îmbunătățire a sistemului de control intern și de prevenire a corupției.\nMonitorizarea și evaluarea eficienței și eficacității măsurilor anti-corupție implementate.\nAsigurarea responsabilizării și a transparenței în gestionarea resurselor publice.\nII. Evaluarea sistemului de prevenire a corupției în misiunile de audit\nPentru a evalua eficiența și eficacitatea sistemelor de prevenire a corupției\, auditorii ar trebui să examineze următoarele aspecte: evaluarea sistemului de prevenire a coruptiei\nExistă un cadru legislativ și instituțional adecvat pentru prevenirea corupției?\nSistemul de control intern este bine conceput și funcționează eficient?\nProcesele și procedurile de luare a deciziilor sunt transparente și bine documentate?\nMecanismele de raportare și investigare a cazurilor de corupție sunt eficiente și eficace?\nExistă un sistem de monitorizare și evaluare a performanțelor în domeniul prevenirii corupției?\nIII. Abordarea bazată pe riscuri în evaluarea sistemelor de prevenire a corupției\nÎn contextul misiunilor de audit\, o abordare bazată pe riscuri poate ajuta la identificarea și evaluarea eficientă a vulnerabilităților și riscurilor de corupție. Auditorii ar trebui să:\nAnalizeze factorii de risc specifici care pot contribui la apariția corupției\, cum ar fi lipsa transparenței\, insuficiența controlului intern sau lipsa de responsabilizare.\nEvalueze probabilitatea și impactul potențial al riscurilor identificate.\nIdentifice și recomande măsuri de atenuare a riscurilor\, precum îmbunatirea tehnologiei în evaluarea și prevenirea corupției.\nIV. Concluzie\nEvaluarea sistemelor de prevenire a corupției în cadrul misiunilor de audit este esențială pentru a asigura integritatea și transparența în gestionarea resurselor publice. Abordarea bazată pe riscuri\, utilizarea tehnologiei și cooperarea între auditori și alte părți interesate pot contribui în mod semnificativ la identificarea și combaterea corupției. Prin adoptarea unor astfel de practici\, auditorii pot juca un rol activ în promovarea integrității și a unui mediu lipsit de corupție în sectorul public. evaluarea sistemului de prevenire \n
URL:https://www.atctraining.ro/calendar-curs/evaluarea-sistemului-de-prevenire-a-coruptiei-in-cadrul-misiunilor-de-audit-3/
LOCATION:Hotel Excelsior/ Hotel Palace Sinaia
END:VEVENT
END:VCALENDAR