BEGIN:VCALENDAR
VERSION:2.0
PRODID:-//ATC training - ECPv4.8.2//NONSGML v1.0//EN
CALSCALE:GREGORIAN
METHOD:PUBLISH
X-WR-CALNAME:ATC training
X-ORIGINAL-URL:https://www.atctraining.ro
X-WR-CALDESC:Events for ATC training
BEGIN:VEVENT
DTSTART;VALUE=DATE:20241003
DTEND;VALUE=DATE:20241007
DTSTAMP:20260423T220224
CREATED:20240808T122144Z
LAST-MODIFIED:20240808T125026Z
UID:10705-1727913600-1728259199@www.atctraining.ro
SUMMARY:Etica în instituțiile de învățământ superior
DESCRIPTION:1. Reglementări care vizează etica la nivelul instituțiilor de învățământ superior \n\nLegea nr. 199 din 2023 a învățământului superior\nHG nr. 305 din 4 aprilie 2024 pentru aprobarea Codului-cadru de etică și deontologie universitară\nOG nr. 57 din 16 august 2002 privind cercetarea științifică și dezvoltarea tehnologică\nLegea nr. 183 din 10 iunie 2024 privind statutul personalului de cercetare\, dezvoltare și inovare\nRolul și importanța Codului de etică universitară parte a Cartei universitare\nLegătura Codului de etică universitară cu regulamentele interne ale instituției de învățământ superior\nLegătura Codului de etică universitară cu alte coduri de etică a profesiilor\nRăspunderea instituțională în aplicarea eticii în instituțiile de învățământ superior\n\n2. Comisiile de etică și deontologie universitară \n\nNoua structură a comisiei de etică universitară\nDelimitarea comisiei de etică universitară de comisia de disciplină\nRol\, atribuții și competențe ale comisiei de etică universitară din perspectiva noilor reglementări.\nProceduri în fața comisiei de etică universitară\nTipul și importanța documentelor emise Comisia de etică universitară.\nAplicarea și contestarea documentelor emise Comisia de etică universitară\nRăspunderea instituțională în aplicarea hotărârilor comisiei de etică și deontologie universitară\n\n3. Etica în cercetare și diseminare: \n\nAspecte ale eticii universitare în cadrul activității gestionate de școala doctorală\nOrdin nr.3.020 din 8 ianuarie 2024 al Ministrului Educaţiei pentru aprobarea Regulamentului-cadru privind studiile universitare de doctorat\nHG nr. 681 din 29 iunie 2011 privind aprobarea Codului studiilor universitare de doctorat\nOrdinul nr. 5.229 din 17 august 2020 pentru aprobarea metodologiilor referitoare la acordarea atestatului de abilitare\, acordarea titlului de doctor\, precum și la soluționarea sesizărilor cu privire la nerespectarea standardelor de calitate sau de etică profesională\, inclusiv cu privire la existența plagiatului\, în cadrul unei teze de doctorat\nOrdinul nr. 5.255 din 10 septembrie 2021 privind verificarea respectării eticii și deontologiei universitare în elaborarea tezelor de doctorat din perioada 1990-2016\n\n4. Bune practici  \n
URL:https://www.atctraining.ro/calendar-curs/etica-in-institutiile-de-invatamant-superior-2/
LOCATION:Poiana Brasov – Hotel Alpin
END:VEVENT
END:VCALENDAR