BEGIN:VCALENDAR
VERSION:2.0
PRODID:-//ATC training - ECPv4.8.2//NONSGML v1.0//EN
CALSCALE:GREGORIAN
METHOD:PUBLISH
X-WR-CALNAME:ATC training
X-ORIGINAL-URL:https://www.atctraining.ro
X-WR-CALDESC:Events for ATC training
BEGIN:VEVENT
DTSTART;VALUE=DATE:20181108
DTEND;VALUE=DATE:20181112
DTSTAMP:20260426T002758
CREATED:20180919T051221Z
LAST-MODIFIED:20180919T051221Z
UID:4704-1541635200-1541980799@www.atctraining.ro
SUMMARY:Curs DPO – OFITER PROTECTIA DATELOR CU CARACTER PERSONAL
DESCRIPTION:– Legislatie europeana si nationala\n– Principalele tipuri de date cu caracter personal si clasificarea lor\n– Impactul Regulamentului privind protectia datelor cu caracter personal asupra raspunderii civile\n– Datele cu caracter personal si principiul libertatii contractuale. Consimtamantul pentru prelucrarea datelor personale. Retragerea consimtamantului\n– Drepturile si obligatiile persoanelor vizate\n– Drepturile si obligatiile operatorilor de date\n– Drepturile si obligatiile persoanelor imputernicite\n– Ofiterul/ Responsabilul de protectia datelor (DPO) – roluri si responsabilitati\n– Riscurile privind protectia datelor\n– Evaluarea impactului asupra protectiei datelor\n– Managementul incidentelor\n– Corelarea principiilor de protectie a datelor\, cu prevederile Standardelor din cadrul Sistemului de Control Intern Managerial SCI/M\n– Raspundere juridica si Sanctiuni\n– Protectia datelor cu caracter personal din perspectiva mediului IT\n– Exemple practice privind monitorizarea periodica si sistematica a persoanelor vizate\n– Sarcini speciale ale responsabilului cu protectia datelor\, tehnici si metode practice \n
URL:https://www.atctraining.ro/calendar-curs/curs-dpo-ofiter-protectia-datelor-cu-caracter-personal-4/
LOCATION:Sinaia: Hotel Rina Sinaia
END:VEVENT
END:VCALENDAR