BEGIN:VCALENDAR
VERSION:2.0
PRODID:-//ATC training - ECPv4.8.2//NONSGML v1.0//EN
CALSCALE:GREGORIAN
METHOD:PUBLISH
X-WR-CALNAME:ATC training
X-ORIGINAL-URL:https://www.atctraining.ro
X-WR-CALDESC:Events for ATC training
BEGIN:VEVENT
DTSTART;VALUE=DATE:20180829
DTEND;VALUE=DATE:20180903
DTSTAMP:20260423T173501
CREATED:20180815T064940Z
LAST-MODIFIED:20180815T064940Z
UID:4532-1535500800-1535932799@www.atctraining.ro
SUMMARY:Curs DPO – OFITER PROTECTIA DATELOR CU CARACTER PERSONAL
DESCRIPTION:\nLegislatie europeana si nationala\nPrincipalele tipuri de date cu caracter personal si clasificarea lor\nImpactul Regulamentului privind protectia datelor cu caracter personal asupra raspunderii civile\nDatele cu caracter personal si principiul libertatii contractuale. Consimtamantul pentru prelucrarea datelor personale. Retragerea consimtamantului\nDrepturile si obligatiile persoanelor vizate\nDrepturile si obligatiile operatorilor de date\nDrepturile si obligatiile persoanelor imputernicite\nOfiterul/ Responsabilul de protectia datelor (DPO) – roluri si responsabilitati\nRiscurile privind protectia datelor\nEvaluarea impactului asupra protectiei datelor\nManagementul incidentelor\nCorelarea principiilor de protectie a datelor\, cu prevederile Standardelor din cadrul Sistemului de Control Intern Managerial SCI/M\nRaspundere juridica si Sanctiuni\nProtectia datelor cu caracter personal din perspectiva mediului IT\nExemple practice privind monitorizarea periodica si sistematica a persoanelor vizate\n\n 
URL:https://www.atctraining.ro/calendar-curs/curs-dpo-ofiter-protectia-datelor-cu-caracter-personal-2/
LOCATION:Jupiter – Hotel Majestic
END:VEVENT
END:VCALENDAR