BEGIN:VCALENDAR
VERSION:2.0
PRODID:-//ATC training - ECPv4.8.2//NONSGML v1.0//EN
CALSCALE:GREGORIAN
METHOD:PUBLISH
X-WR-CALNAME:ATC training
X-ORIGINAL-URL:https://www.atctraining.ro
X-WR-CALDESC:Events for ATC training
BEGIN:VEVENT
DTSTART;VALUE=DATE:20180801
DTEND;VALUE=DATE:20180806
DTSTAMP:20260423T220719
CREATED:20180622T170815Z
LAST-MODIFIED:20180622T170815Z
UID:4418-1533081600-1533513599@www.atctraining.ro
SUMMARY:CONTROL INTERN / MANAGERIAL Ordinul nr. 600/2018 privind aprobarea Codului controlului intern managerial al entitatilor publice
DESCRIPTION:Organizarea sistemului de control intern managerial \n– modificarile aduse Codului controlului intern managerial prin Ordinul Secretarului General al Guvernului nr. 600/2018 \n– responsabilitatile conducatorilor entitatilor publice in domeniul controlului intern/managerial prevazute in Codul controlului intern managerial\, aprobat prin Ordinul Secretarului General al Guvernului nr. 600/2018 \n– motive pentru care controlul intern/managerial trebuie sa reprezinte o preocupare a managementului. Cum poate ajuta sistemul de control intern managerii din entitatile publice pentru cresterea gradului de respectare a cadrului legal si reducerea riscului de eroare a angajatilor. \n– organizarea si functionarea comisiei constituite pentru monitorizarea\, coordonarea si indrumarea metodologica a implementarii si dezvoltarii sistemului de control intern managerial in entitate. Solutii privind organizarea. Documente minimale privind functionarea comisiei. Erori posibile privind organizarea si functionarea comisiei. \n– planificarea activitatilor pentru implementarea sistemului de control intern/managerial in entitate. Model de program pentru dezvoltarea sistemului de control intern managerial. Erori posibile privind elaborarea programului pentru dezvoltarea sistemului de control intern managerial. \nAspecte practice privind implementarea standardelor de control intern/managerial \n– ce cuprinde si cum trebuie abordat un standard de control intern/managerial in vederea implementarii \n– prezentarea succinta a fiecarui standard\, documente si structuri functionale minimale privind implementarea acestora \n– modificarile aduse standardelor prin Ordinul Secretarului General al Guvernului nr. 600/2018 \n– cum raspundem la cele trei intrebari aferente fiecarui standard din chestionarul de autoevaluare si cum justificam raspunsul (model de completare a chestionarului pentru o entitate publica) \n– aspecte practice privind activitatea de autoevaluare si intocmirea documentelor specifice de raportare in domeniul controlului intern/managerial \nImplementarea Standardului 1 – Etica si integritatea \n– activitati pe care trebuie sa le efectueze conducerea entitatii publice pentru a asigura un climat etic in cadrul organizatiilor. \n– elaborarea politicilor si procedurilor privind integritatea\, valorile etice\, evitarea conflictelor de interese\, prevenirea si raportarea fraudelor\, actelor de coruptie si semnalarea neregularitatilor \n– exemple de politici si proceduri privind etica si integritatea \nImplementarea Standardului 2 – Atributii\, functii\, sarcini \n– intocmirea si actualizarea documentului privind misiunea entitatii \n– cum trebuie elaborat corect un regulament de organizare si functionare \n– care sunt diferentele intre regulamentul de organizare si functionare si regulamentul de ordine interioara \n– cum se formuleaza obiectivele postului? Care este legatura intre obiectivele entitatii\, obiectivele specifice ale microstructurilor organizatorice si fisele postului? \n– erori privind elaborarea fiselor postului. Cand fisa postului este clara si permite evaluarea obiectiva a angajatului? \nImplementarea Standardului 3 – Competenta\, performanta \n– evaluarea performantelor profesionale ale angajatilor pe baza obiectivelor anuale individuale \n– elaborarea planului de pregatire profesionala \n– definirea cunostintelor si deprinderilor pentru posturi. \nImplementarea Standardului 4 – Structura organizatorica \n– solutii posibile privind analiza periodica a gradului de adaptabilitate a structurii organizatorice \n– realizarea delegarii in sens restrans si in sens larg \n– erori privind delegarea. \nImplementarea Standardului 5 – Obiective \n– definirea obiectivelor generale si specifice \n– tehnici de imbunatatire a obiectivelor pentru a deveni ”SMART” \n– exemple de obiective in domeniul resurselor umane\, salarizarii\, contabilitatii\, achizitii etc. \n– principalele deficiente si erori posibile in definirea obiectivelor. \n– stabilirea ipotezelor de planificare \n– exemple privind definirea ipotezelor si reevaluarea obiectivelor \n– legatura intre ipoteze si obiective \n– diferente intre ipoteze si riscuri \n– cum si cand trebuie reevaluate ipotezele. \nImplementarea Standardului 6 – Planificarea \n– modele de planuri \n– erori privind planificarea. \nImplementarea Standardului 7 – Monitorizarea performantelor \n– stabilirea indicatorilor de performanta \n– lista de indicatori in domeniul resurselor umane\, salarizarii\, contabilitatii\, achizitii etc. \n– evaluarea calitatii indicatorilor de monitorizare a performantelor \n– implementarea unui sistem coerent de monitorizare a performantelor in entitate \n– exemplu de procedura operationala privind monitorizarea performantelor \n– deficiente si erori posibile privind monitorizarea performantelor. \nImplementarea Standardului 8 – Managementul riscului \n– documente privind implementarea managementului riscului \n– strategia privind riscul a entitatii \n– identificarea riscurilor semnificative ale entitatii \n– catalog de riscuri pe domenii cu exemple de riscuri \n– cum se verifica daca un enunt reprezinta un risc \n– de ce este importanta stabilirea cauzelor care pot conduce la aparitia riscului. \n– formularea riscurilor in consens cu buna practica in domeniu \n– stabilirea limitei acceptabile a riscului \n– de ce nu trebuie sa ne fie frica de risc? De ce trebuie sa lucram cu riscul? \n– evaluarea si prioritizarea riscurilor \n– tehnici de evaluare a  riscurilor \n– cum trebuie aleasa scara de evaluare a riscurilor \n– gestionarea riscurilor \n– model pentru elaborarea registrului de riscuri \n– planuri pentru implementarea masurilor de gestionare a riscurilor \nModificarile aduse Standardului 8 – Managementul riscului prin Ordinul secretarului general al Guvernului nr. 600/2018 \n– modificarile privind organizarea procesului de managementului riscului \n– organizarea si desfasurarea managementului riscului la nivelul compartimentelor; responsabilitati ale conducatorilor de compartimente si ale responsabililor cu riscurile \n– responsabilitatile comisiei de monitorizare in ceea ce priveste managementul riscului \n– documente specifice organizarii\, exercitarii si monitorizarii managementului riscului \nImplementarea Standardului 9 – Proceduri \n– de ce trebuie sa evitam elaborarea de proceduri care nu sunt aplicate? \n– avantajele elaborarii si aplicarii procedurilor operationale \n– riscurile neaplicarii procedurilor operationale \n– cum se elaboreaza o procedura si schema de elaborare/actualizare a procedurilor \n– aplicarea de masuri de control compensatorii in absenta instrumentelor de control asteptate. \nImplementarea Standardului 10 – Supravegherea \n– solutii privind realizarea de catre conducerea entitatii a unei bune supravegheri a activitatilor entitatii publice \nImplementarea Standardului 11 – Continuitatea activitatii \n– situatii generatoare de discontinuitati \n– exemplu de plan de continuitate a activitatii. \nImplementarea Standardului 12 – Informarea si comunicarea \n– situatii generatoare de discontinuitati \n– exemplu de plan de continuitate a activitatii. \nImplementarea Standardului 13 – Gestionarea documentelor \n– proceduri privind inegistrarea\, expedierea\, redactarea\, clasificarea\, indosarierea\, protejarea si pastrarea documentelor \n– arhivarea documentelor si masurile de securitate \n– gestionarea documentelor clasificate. \nImplementarea Standardului 14 – Raportarea financiara si contabila \n– responsabilitatile ordonatorilor de credite/conducatorilor entitatilor publice privind raportarea financiara si contabila \n– responsabilitatile compartimentelor financiar-contabile \n– politici si proceduri contabile \n– exemple de controale contabile. \nImplementarea Standardului 15 – Evaluarea sistemului de control intern managerial \n– activitati specifice evaluarii \n– completarea situatiilor centralizatoare. Exemple \n– elaborarea raportului anual \n– autoevaluarea sistemului de control intern/managerial \n– ghid de completare a chestionarului de autoevaluare \n– model completat de chestionar de autoevaluare \nImplementarea Standardului 16 – Auditul intern \n– activitati specifice evaluarii \n– completarea situatiilor centralizatoare. Exemple \nControl birocratic vs. Control inteligent \n– integrarea controlului intern/managerial in activitatile curente ale entitatii \n– cum evitam birocratia si ce inseamna \,\,controalele inteligente” \n– diferente si evolutia de la \,\,a controla” la \,\,a detine controlul” \n
URL:https://www.atctraining.ro/calendar-curs/control-intern-managerial-ordinul-nr-600-2018-privind-aprobarea-codului-controlului-intern-managerial-al-entitatilor-publice-4/
LOCATION:Jupiter – Hotel Majestic
END:VEVENT
END:VCALENDAR