BEGIN:VCALENDAR
VERSION:2.0
PRODID:-//ATC training - ECPv4.8.2//NONSGML v1.0//EN
CALSCALE:GREGORIAN
METHOD:PUBLISH
X-WR-CALNAME:ATC training
X-ORIGINAL-URL:https://www.atctraining.ro
X-WR-CALDESC:Events for ATC training
BEGIN:VEVENT
DTSTART;VALUE=DATE:20241003
DTEND;VALUE=DATE:20241007
DTSTAMP:20260423T160518
CREATED:20240808T140122Z
LAST-MODIFIED:20240808T140122Z
UID:10724-1727913600-1728259199@www.atctraining.ro
SUMMARY:Control financiar preventiv. Control de gestiune
DESCRIPTION:ORDIN 2178 /2023 privind modificarea anexei nr. 2 la Ordinul ministrului finanţelor publice nr. 923/2014 pentru aprobarea Normelor metodologice generale referitoare la exercitarea controlului financiar preventiv şi a Codului specific de norme profesionale pentru persoanele care desfăşoară activitatea de control financiar preventiv propriu \nORDIN nr. 953 din 8 februarie 2023 – pentru modificarea şi completarea anexei nr. 1 la Ordinul ministrului finanţelor publice nr. 923/2014 pentru aprobarea Normelor metodologice generale referitoare la exercitarea controlului financiar preventiv şi a Codului specific de norme profesionale pentru persoanele care desfăşoară activitatea de control financiar preventiv propriu \nORDIN nr. 17 din 6 ianuarie 2022 privind modificarea anexei nr. 2 la Ordinul ministrului finanţelor publice nr. 923/2014 pentru aprobarea Normelor metodologice generale referitoare la exercitarea controlului financiar preventiv şi a Codului specific de norme profesionale pentru persoanele care desfăşoară activitatea de control financiar preventiv propriu \nNOUTATI\, DEZBATERI SI ANALIZA PRACTICA privind: Ordin nr.103/2019 privind modificarea si completarea OMFP nr. 923/2014 privind Normele metodologice generale referitoare la exercitarea CFP si a Codului specific de norme profesionale pentru persoanele care desfasoara activitatea de control financiar preventiv propriu; \nExercitarea activității de control financiar preventiv – prezentare metodologică \n\nScopul controlului financiar preventiv propriu și categoriile de operațiuni asupra cărora se exercită;\nEntităţile publice la care\, potrivit legii\, se organizează controlul financiar preventiv;\nConținutul controlului financiar preventiv propriu\nSepararea atribuțiilor persoanelor care acordă viza de control financiar preventiv de cele care întocmesc documentele supuse vizei\n\nOrganizarea activității de control financiar preventiv propriu. \n\nProcedura de control\nRefuzul de viză – semnatura electronica;\nAutorizarea efectuării unor operaţiuni pentru care se refuză viza de control financiar preventiv.\nDispoziţii cu privire la regiile autonome\, societăţile comerciale cu capital majoritar de stat şi societăţile comerciale care beneficiază de drepturi exclusive sau speciale;\nAtribuțiile Ministerului Finanțelor privind efectuarea de inspecții privind modul de organizare și conducere a activității de control financiar preventiv.\nFormularea plângerii împotriva actului administrativ de control.\n\nCod specific de norme profesionale pentru persoanele care exercită activitatea de control financiar preventiv propriu (OMF nr.17/2022): \n\nDispoziții generale\nCondițiile necesare a fi îndeplinite de persoanele ce se numesc în activitatea de control financiar preventiv propriu și principiile care stau la baza desfășurării acestei activități;\nnumirea/suspendarea/schimbarea sau destituirea persoanelor desemnate să exercite activitatea de control financiar preventiv;\nreavizarea persoanelor desemnate să exercite activitatea de control financiar preventiv;\nevaluarea activității persoanelor desemnate să exercite activitatea de control financiar preventiv.\ndeclarația cu privire la incompatibilități și conflicte de interese; incompatibilități specifice și conflicte de interese;\n\nAspecte practice privind exercitarea activității de control financiar preventiv propriu \nCadrul general al oprațiunilor supuse controlului financiar preventiv\no Deschiderea\, repartizarea și modificarea creditelor bugetare;\no Angajamente legale din care rezultă\, direct sau indirect\, obligații de plată;\no Angajarea\, Lichidarea\, Ordonanțarea și Plata cheltuielilor;\no Concesionarea\, închirierea\, transmiterea\, vânzarea și schimbul bunurilor din patrimoniul instituțiilor publice;\no Alte operațiuni supuse controlului financiar preventiv – documente justificative specifice care derularea proiectelor finanțate din fonduri europene; decizie privind neeligibilitatea unor sume în cadrul proiectelor finanțate din fonduri europene. \nDocumente justificative specifice aferente activității de control financiar preventiv:\no Listele de verificare;\no Registrul operațiunilor prezentate la viza de control financiar preventiv\, în format letric\, electronic sau mixt;\no Nota de restituire în vederea completării documentației supuse vizei de CFP;\no Adresa de Refuz de viză.\no Anexele la OMFP nr.1792/24 decembrie 2002\, cu modificările și completările ulterioare\, privind Angajarea\, Lichidarea\, Ordonanțarea și Plata Cheltuielilor. \nRaportarea activității de control financiar preventiv\nRaportul privind exercitarea activității de control financiar preventiv: \n\nOperațiuni supuse vizei de control financiar preventiv;\nSinteza motivațiilor care au stat la baza refuzurilor de viză de control financiar preventiv;\nSinteza operațiunilor refuzate la viză și efectuate pe propria răspundere a conducătorului instituției publice;\nPregătirea profesională a persoanelor desemnate să exercite viza de control financiar preventiv propriu.\n\nContravenții și sancțiuni privind organizarea și conducerea necorespunzătoare a activității de control financiar preventiv\nInterferența Controlului Financiar Preventiv cu: \n\nManagementul financiar contabil;\nManagementul resurselor umane;\nManagementul achizițiilor publice;\nManagementul documentelor utilizate în activitatea entității.\n\nStudii de caz și dezbateri cu privire la exercitarea activității de control financiar preventiv propriu. \n
URL:https://www.atctraining.ro/calendar-curs/control-financiar-preventiv-control-de-gestiune-127/
LOCATION:Hotel Excelsior/ Hotel Palace Sinaia
END:VEVENT
END:VCALENDAR