BEGIN:VCALENDAR
VERSION:2.0
PRODID:-//ATC training - ECPv4.8.2//NONSGML v1.0//EN
CALSCALE:GREGORIAN
METHOD:PUBLISH
X-WR-CALNAME:ATC training
X-ORIGINAL-URL:https://www.atctraining.ro
X-WR-CALDESC:Events for ATC training
BEGIN:VEVENT
DTSTART;VALUE=DATE:20240814
DTEND;VALUE=DATE:20240819
DTSTAMP:20260425T143349
CREATED:20240714T092154Z
LAST-MODIFIED:20240714T092154Z
UID:10605-1723593600-1724025599@www.atctraining.ro
SUMMARY:Contabilitatea institutiilor publice. Utilizarea eficienta a FOREXEBUG
DESCRIPTION:PROCEDURI PRACTICE PRIVIND:\nSistemul național de raportare (FOREXEBUG). Implementarea şi stadiul sistemului cf. OMFP nr. 1026/2017:\ntransmiterea formularelor din sfera raportării situațiilor financiare în Sistemul național de raportare; particularități și probleme întâmpinate în transmiterea formularelor; spețe și cazuri practice;\n• verificări și validări de formulare efectuate în sistem;\n• generarea pachetului de situații financiare;\n• modificări și completări la OUG 88/2013 privind adoptarea unor măsuri fiscal-bugetare pentru îndeplinirea unor angajamente convenite cu organismele internaţionale\, precum şi pentru modificarea şi completarea unor acte normative. Inventarierea patrimoniului instituțiilor publice.\n• înregistrarea plusurilor şi minusurilor apărute cu ocazia efectuării inventarierii elementelor de natura activelor\, datoriilor şi capitalurilor proprii.\n• Structura Formularului P4000 privind inventarul centralizat al bunurilor imobile proprietate privată a statului şi a drepturilor reale supuse inventarierii.\n• Calendarul de utilizare a funcționalităților\, OMFP nr. 984/2017.\n• Întocmirea şi depunerea situaţiilor financiare.\n• Particularități privind închiderea conturilor de finanţare\, de disponibil şi stabilirea rezultatului patrimonial pentru instituţiile publice finanţate de la bugetul de stat\, local\, asigurări\, instituţii publice finanţate integral sau parţial din venituri proprii\, precum şi pentru activităţi finanţate din venituri proprii.\n• Reevaluarea şi amortizarea activelor fixe corporale aflate în patrimoniul instituţiilor publice.\n• Monografii privind înregistrarea în contabilitate a operațiunilor specifice (salarii\, rețineri din salarii\, concedii medicale\, sume de recuperat de la Casa de Asigurări de Sănătate\, vouchere de vacanță etc.).\n• Soluții privind aplicarea OMFP 221/2015\, trecerea activelor fixe corporale amortizate integral la categoria materialelor de natura obiectelor de inventar.\n• Repartizarea profitului la societățile naționale\, companiile naționale și societățile comerciale cu capital integral/majoritar de stat\, regii autonome.\n• Proceduri contabile. Modele de elaborare. \nSOLUŢII ȘI ABORDĂRI PRIVIND:\n• Evoluția implementării IPSAS şi EPSAS.\n• ALOP – Angajarea\, lichidarea\, ordonanţarea şi plata cheltuielilor la instituţiile publice. Credite de angajament şi credite bugetare. Clasificaţia economică a cheltuielilor în conformitate cu SEConturi; acţiuni multianuale.\n• Noul sistem de raportare şi implicaţiile CFG; greşeli frecvente.\n• Particularități şi probleme întâmpinate privind pregătirea documentelor verificate prin CFP; reconstituirea unor documente justificative şi contabile;\n• nereguli frecvente privind facturile şi contractele cu furnizorii pentru respectarea obligaţiilor fiscale. \nASPECTE NOI PRIVIND ORGANIZAREA ŞI CONDUCEREA CONTABILITĂŢII ÎN\nINSTITUŢIILE PUBLICE\, LEGATE DE:\n• întocmirea situaţiilor financiare (Bilanţ şi Anexe); corelaţii între formularele de situaţii financiare;\n• probleme rezultate din nerespectarea metodologiei privind întocmirea situaţiilor financiare şi a depunerii cu întârziere a situaţiilor financiare;\n• înregistrarea în contabilitatea instituţiilor publice a drepturilor salariale stabilite prin hotărâri judecătoreşti; operaţiuni de consolidare;\n• patrimoniul public şi privat al statului – noi aspecte legislative.\nAspecte practice referitoare la înregistrarea unor operaţiuni privind venituri şi cheltuieli bugetare\, stabilirea rezultatului execuţiei şi a rezultatului patrimonial\, împrumuturi\, dobânzi\, active fixe etc.\nAdoptarea unor măsuri fiscal-bugetare pentru îndeplinirea unor angajamente convenite cu organismele internaţionale\, precum şi pentru modificarea şi completarea unor acte normative.\nElemente de bază privind contabilitatea fondurilor externe nerambursabile.\nModele privind elaborarea procedurilor contabile.\nAplicaţii practice şi studii de caz ce vor ilustra temele tratate prin alternarea elementelor reglementate cu cele practice.\nDezvoltarea abilităților informatice prin instrumente specifice: sprijinirea participanților în însușirea de cunoștințe\, deprinderi și aptitudini pentru a înțelege și utiliza computerul şi a programelor specifice. \n  \n
URL:https://www.atctraining.ro/calendar-curs/contabilitatea-institutiilor-publice-utilizarea-eficienta-a-forexebug-3/
LOCATION:Hotel Doina – Neptun
END:VEVENT
END:VCALENDAR