BEGIN:VCALENDAR
VERSION:2.0
PRODID:-//ATC training - ECPv4.8.2//NONSGML v1.0//EN
CALSCALE:GREGORIAN
METHOD:PUBLISH
X-WR-CALNAME:ATC training
X-ORIGINAL-URL:https://www.atctraining.ro
X-WR-CALDESC:Events for ATC training
BEGIN:VEVENT
DTSTART;VALUE=DATE:20241114
DTEND;VALUE=DATE:20241118
DTSTAMP:20260423T203821
CREATED:20241017T130224Z
LAST-MODIFIED:20241017T130224Z
UID:10916-1731542400-1731887999@www.atctraining.ro
SUMMARY:Contabilitate bugetara si management financiar
DESCRIPTION:1. Reglementări legislative în domeniul financiar; analiză și dezbateri privind legislația în domeniu.\n2. Inventarierea patrimoniului instituțiilor publice.\n3. Plusuri şi minusuri apărute cu ocazia efectuării inventarierii elementelor de natura activelor\, datoriilor şi capitalurilor proprii.\n4. Sistemul național de raportare Forexebug (SNR FXB\, OMF nr.1517/2023) : \n• Particularități și cazuri practice\, privind transmiterea și completarea formularelor din sfera raportării situațiilor financiare în Sistemul național de raportare; probleme întâmpinate\, spețe;\n• Verificări și validări de formulare efectuate în sistem; Generarea pachetului de situații financiare; cazuri exceptionale;\n• Arhivarea și păstrarea documentelor din SNR FXB;\n• Corelații minimale pentru Situații financiare generate de SNR FXB vs. Situații financiare depuse pe suport hârtie;\n• Rolul Curții de Conturi în SNR FXB;\n• Implementarea și stadiul sistemului conform OMFP nr.1026/2017;\n• Calendarul de utilizare a functionalităților conform OMFP nr.984/2017; Noutăţi privind SNR FXB. \n5. RO e-Factura și fluxul emiterii\, respectiv primirii facturii electronice în relația dintre operatorul economic și instituția publică (B2G).\n6. Reevaluarea și amortizarea activelor fixe corporale aflate în patrimoniul instituțiilor publice; trecerea activelor fixe corporale amortizate integral la categoria materialelor de natura obiectelor de inventar;\n7. Angajarea\, lichidarea\, ordonanţarea şi plata cheltuielilor la instituţiile publice\, ALOP (Omfp 547/2009). Acţiuni multianuale.\n8. Repartizarea profitului la societățile naționale\, companiile naționale și societățile comerciale cu capital integral majoritar de stat\, regii autonome;\n9. Particularități privind contabilitatea proiectelor finanțate din Fonduri externe nerambursabile.  \nLucrări practice: \n\nDobândirea Certificatului de atestare a cunoştinţelor în domeniul Sistemului European de Conturi (Regulamentul UE 549/2013\, Omfp 496/2014).\nStudii de caz privind înregistrarea în contabilitate a operațiunilor specifice (salarii\, rețineri din salarii\, concedii medicale\, sume de recuperat de la Casa de Asigurări de Sănătate\, vouchere de vacanță\, programul rabla etc.).\nAplicaţie practică privind reevaluarea şi amortizarea activelor fixe corporale aflate în patrimoniul instituţiilor publice.\nExemplu practic privind evidența proiectelor PNRR (Planul național de redresare și reziliență).\n\nSTUDII DE CAZ \,la propunerile participanților\, răspunsuri la întrebări și spete. \n
URL:https://www.atctraining.ro/calendar-curs/contabilitatea-bugetara-si-management-financiar/
LOCATION:Hotel Excelsior/ Hotel Palace Sinaia
END:VEVENT
END:VCALENDAR