BEGIN:VCALENDAR
VERSION:2.0
PRODID:-//ATC training - ECPv4.8.2//NONSGML v1.0//EN
CALSCALE:GREGORIAN
METHOD:PUBLISH
X-WR-CALNAME:ATC training
X-ORIGINAL-URL:https://www.atctraining.ro
X-WR-CALDESC:Events for ATC training
BEGIN:VEVENT
DTSTART;VALUE=DATE:20180722
DTEND;VALUE=DATE:20180730
DTSTAMP:20260424T161941
CREATED:20180622T161743Z
LAST-MODIFIED:20180622T161743Z
UID:4391-1532217600-1532908799@www.atctraining.ro
SUMMARY:CONTABILITATE FINANCIARA SI DE GESTIUNE
DESCRIPTION:\nCadrul general privind organizarea si conducerea contabilitatii.\nBugetul de venituri si cheltuieli. Fundamentarea si necesitatea acestuia.\nDocumente justificative si registre de contabilitate\n\n\nDocumente justificative – prevederi generale\nRegistrele de contabilitate\nBalanta de verificare\nArhivarea\, pastrarea si reconstituirea documentelor\nSistemul informatic.\n\n\nContabilitatea activelor fixe corporale si necorporale\nContabilitatea stocurilor. Definirea si structura stocurilor.\nContabilitatea tertilor si a decontarilor cu personalul.\nContabilitatea operaţiunilor la Trezoreria Statului şi la instituţii de credit.\nContabilitatea veniturilor si cheltuielilor.\nInventarierea patrimoniului. Înregistrarea plusurilor și minusurilor rezultate în urma efectuării inventarierii elementelor de natura activelor\, datoriilor şi capitalurilor.\nDocumentele justificative financiar-contabile care stau la baza intrării/scoaterii de bunuri din gestiune; activitatea şi răspunderea gestionarilor.\nComponenta si structura situatiilor financiare.\n\nAplicaţii practice şi studii de caz ce vor ilustra temele tratate prin alternarea elementelor reglementate cu cele practice. Monografii contabile. \n
URL:https://www.atctraining.ro/calendar-curs/contabilitate-financiara-si-de-gestiune-2/
LOCATION:Hotel Florida – Mamaia
END:VEVENT
END:VCALENDAR