BEGIN:VCALENDAR
VERSION:2.0
PRODID:-//ATC training - ECPv4.8.2//NONSGML v1.0//EN
CALSCALE:GREGORIAN
METHOD:PUBLISH
X-WR-CALNAME:ATC training
X-ORIGINAL-URL:https://www.atctraining.ro
X-WR-CALDESC:Events for ATC training
BEGIN:VEVENT
DTSTART;VALUE=DATE:20180822
DTEND;VALUE=DATE:20180827
DTSTAMP:20260423T160821
CREATED:20180802T071122Z
LAST-MODIFIED:20180802T071122Z
UID:4500-1534896000-1535327999@www.atctraining.ro
SUMMARY:AUDITUL INTERN AL SISTEMULUI DE PREVENIRE A CORUPTIEI INTR-O ENTITATE PUBLICA
DESCRIPTION:Principalele aspecte discutate in cadrul cursului: \n\nPrezentarea principalelor elemente ale Strategiei nationale anticoruptie pe perioada 2016 – 2020\nActivitatile principale si responsabilitati privind implementarea prevederilor Strategiei nationale anticoruptie pe perioada 2016 – 2020\nIdentificarea riscurilor si vulnerabilitatilor institutionale la coruptie\, stabilirea masurilor ca remedii pentru riscurile si vulnerabilitatile identificate\nElaborarea si indeplinirea planului de integritate\nCe trebuie sa auditam in cadrul unei misiuni de audit intern privind sistemul de prevenire a coruptiei?\nElaborarea obiectivelor pentru misiunea de audit intern privind sistemul de prevenire a coruptiei. Exemple de posibile obiective.\nExemplificarea studiului preliminar pentru misiunea de audit privind sistemul de prevenire a coruptiei\nAnaliza riscurilor in cadrul misiunii de audit privind sistemul de prevenire a coruptiei. Identificarea si evaluarea riscurilor in cadrul misiunii. Stabilirea controalelor existente si a controalelor asteptate pentru misiunea de audit. Elaborarea documentului privind Stabilirea punctajului total al riscurilor si ierarhizarea riscurilor\, precum si a Evaluarii initiale a gradului de incredere in controlul intern si stabilirea obiectivelor misiunii de audit public intern pentru misiunii de audit privind sistemul de prevenire a coruptiei\nElaborarea programului misiunii de audit privind sistemul de prevenire a coruptiei. Exemplificare\nElaborarea testelor pentru misiunea de audit privind sistemul de prevenire a coruptiei. Exemplu de teste pentru obiectivele misiunii si activitatile auditabile.\nExemple de posibile disfunctii si fise de identificare si analiza a problemei pentru misiunea de audit privind sistemul de prevenire a coruptiei.\nElaborarea raportului de audit intern pentru misiunea de audit privind sistemul de prevenire a coruptiei. Exemplu de prezentare a constatarilor in raport.\n\n 
URL:https://www.atctraining.ro/calendar-curs/auditul-intern-al-sistemului-de-prevenire-a-coruptiei-intr-o-entitate-publica-5/
LOCATION:Jupiter – Hotel Majestic
END:VEVENT
END:VCALENDAR