BEGIN:VCALENDAR
VERSION:2.0
PRODID:-//ATC training - ECPv4.8.2//NONSGML v1.0//EN
CALSCALE:GREGORIAN
METHOD:PUBLISH
X-WR-CALNAME:ATC training
X-ORIGINAL-URL:https://www.atctraining.ro
X-WR-CALDESC:Events for ATC training
BEGIN:VEVENT
DTSTART;VALUE=DATE:20180718
DTEND;VALUE=DATE:20180723
DTSTAMP:20260424T205052
CREATED:20180604T064642Z
LAST-MODIFIED:20180622T171040Z
UID:4291-1531872000-1532303999@www.atctraining.ro
SUMMARY:AUDITUL INTERN AL SISTEMULUI DE PREVENIRE A CORUPTIEI INTR-O ENTITATE PUBLICA
DESCRIPTION:\n\n\nTEMATICA: \nPrincipalele aspecte discutate in cadrul cursului: \n1.      Prezentarea principalelor elemente ale Strategiei nationale anticoruptie pe perioada 2016 – 2020 \n2.      Activitatile principale si responsabilitati privind implementarea prevederilor Strategiei nationale anticoruptie pe perioada 2016 – 2020 \n3.      Identificarea riscurilor si vulnerabilitatilor institutionale la coruptie\, stabilirea masurilor ca remedii pentru riscurile si vulnerabilitatile identificate \n4.      Elaborarea si indeplinirea planului de integritate \n5.      Ce trebuie sa auditam in cadrul unei misiuni de audit intern privind sistemul de prevenire a coruptiei? \n6.      Elaborarea obiectivelor pentru misiunea de audit intern privind sistemul de prevenire a coruptiei. Exemple de posibile obiective.\n7.      Exemplificarea studiului preliminar pentru misiunea de audit privind sistemul de prevenire a coruptiei \n8.      Analiza riscurilor in cadrul misiunii de audit privind sistemul de prevenire a coruptiei. Identificarea si evaluarea riscurilor in cadrul misiunii. Stabilirea controalelor existente si a controalelor asteptate pentru misiunea de audit. Elaborarea documentului privind Stabilirea punctajului total al riscurilor si ierarhizarea riscurilor\, precum si a Evaluarii initiale a gradului de incredere in controlul intern si stabilirea obiectivelor misiunii de audit public intern pentru misiunii de audit privind sistemul de prevenire a coruptiei \n9.      Elaborarea programului misiunii de audit privind sistemul de prevenire a coruptiei. Exemplificare \n10.   Elaborarea testelor pentru misiunea de audit privind sistemul de prevenire a coruptiei. Exemplu de teste pentru obiectivele misiunii si activitatile auditabile. \n11.   Exemple de posibile disfunctii si fise de identificare si analiza a problemei pentru misiunea de audit privind sistemul de prevenire a coruptiei. \n12.   Elaborarea raportului de audit intern pentru misiunea de audit privind sistemul de prevenire a coruptiei. Exemplu de prezentare a constatarilor in raport. \n13.   Studii de caz si exemple\n\n\n\n 
URL:https://www.atctraining.ro/calendar-curs/auditul-intern-al-sistemului-de-prevenire-a-coruptiei-intr-o-entitate-publica-3/
LOCATION:Jupiter – Hotel Majestic
END:VEVENT
END:VCALENDAR