BEGIN:VCALENDAR
VERSION:2.0
PRODID:-//ATC training - ECPv4.8.2//NONSGML v1.0//EN
CALSCALE:GREGORIAN
METHOD:PUBLISH
X-WR-CALNAME:ATC training
X-ORIGINAL-URL:https://www.atctraining.ro
X-WR-CALDESC:Events for ATC training
BEGIN:VEVENT
DTSTART;VALUE=DATE:20241205
DTEND;VALUE=DATE:20241209
DTSTAMP:20260424T093913
CREATED:20241112T133501Z
LAST-MODIFIED:20241112T133501Z
UID:10961-1733356800-1733702399@www.atctraining.ro
SUMMARY:AUDITAREA SISTEMULUI DE CONTROL INTERN MANAGERIAL (SCIM)
DESCRIPTION:PRINCIPALELE ASPECTE CARE VOR FI DEZBĂTUTE ÎN CADRUL CURSULUI: \n\nEtapele principale privind auditarea sistemului de control intern managerial în ansamblu; obiectivele misiunii de audit a sistemului de control intern managerial.\nCadrul normativ privind controlul intern managerial.\nModificările aduse Codului controlului intern managerial prin Ordinul Secretariatului General al Guvernului nr. 600/2018 și implicațiile acestora asupra documentelor întocmite în domeniul controlului intern managerial.\nEtapele generale privind auditarea sistemului de control intern managerial.\nVerificarea constituirii și funcționării comisiei de monitorizare; verificarea îndeplinirii atribuțiilor comisiei de monitorizare; documente solicitate.\nDisfuncții posibile privind organizarea și funcționarea comisiei de monitorizare;\nExemplu de fișă de identificare și analiză a problemei privind funcționarea comisiei de monitorizare; aplicatii practice.\nVerificarea modului de elaborare a programului de dezvoltare.\nCe trebuie să includă un program de dezvoltare și cum se realizează\, potrivit OSGG 600/2018\, planificarea activităților pentru implementarea sistemului de control intern managerial în entitate.\nDisfuncții posibile privind elaborarea programului de dezvoltare; analiza modului de cercetare a neregulilor semnalate în entitate.\nEvaluarea modului de asigurare a consilierii etice a angajaților; exemple practice.\nVerificarea elaborării adecvate a procedurilor privind integritatea\, valorile etice\, evitarea conflictelor de interese\, prevenirea și raportarea fraudelor\, actelor de corupție și semnalarea neregulilor.\nVerificarea modului de identificare a funcțiilor sensibile și de gestionare a riscurilor asociate acestor funcții. Verificarea modului de definire a obiectivelor și a ipotezelor de planificare.\nVerificarea modului de stabilire a indicatorilor de monitorizare a performanței; evaluarea modului de identificare și gestionare a riscurilor.\nVerificarea modului de întocmire a procedurilor documentate; verificarea modului de realizare a autoevaluării sistemului de control intern managerial.\nVerificarea modului de implementare a fiecărui standard de control intern managerial; aspecte care se verifică de către auditori; deficiențe ce pot fi întâlnite.\nAnaliză de riscuri aferentă misiunii de evaluare a sistemului de control intern managerial; exemple practice. Evaluarea inițială a controlului intern aferentă misiunii de evaluare a sistemului de control intern managerial; aplicatii practice.\nProgramul de misiune privind evaluarea sistemului de control intern managerial; spețe.\nTeste pentru misiunea de evaluare a sistemului de control intern managerial.\nExemple de fișe de identificare și analiză a problemei ce pot fi elaborate pentru disfuncții privind sistemul de control intern managerial. Probele ce susţin constatările auditului efectuat. Concluzii cu privire la rezultatele auditului public intern; existența și adecvarea reglementărilor privind asigurarea calităţii auditului și implementarea acestora.\n\nSTUDII DE CAZ\, la propunerile participanților\, răspunsuri la întrebări și spete. \n
URL:https://www.atctraining.ro/calendar-curs/auditarea-sistemului-de-control-intern-managerial-scim-3/
LOCATION:Hotel Excelsior/ Hotel Palace Sinaia
END:VEVENT
END:VCALENDAR