BEGIN:VCALENDAR
VERSION:2.0
PRODID:-//ATC training - ECPv4.8.2//NONSGML v1.0//EN
CALSCALE:GREGORIAN
METHOD:PUBLISH
X-WR-CALNAME:ATC training
X-ORIGINAL-URL:https://www.atctraining.ro
X-WR-CALDESC:Events for ATC training
BEGIN:VEVENT
DTSTART;VALUE=DATE:20170615
DTEND;VALUE=DATE:20170619
DTSTAMP:20260423T143747
CREATED:20170512T101757Z
LAST-MODIFIED:20170512T101757Z
UID:2784-1497484800-1497830399@www.atctraining.ro
SUMMARY:Aplicarea corectiilor financiare pentru proiectele cu finantare externa. Audit\, control si recuperare in materia fondurilor europene
DESCRIPTION:PRINCIPII GENERALE PRIVIND CORECTIILE FINANCIARE:\n• Momente-cheie in accesarea\, utilizarea si absorbtia fondurilor europene – perioada de dinaintea semnarii contractului de finantare\, implementarea si postimplementarea – reguli si eventuale puncte nevralgice.\n• Sanctionarea neregulilor si a fraudelor – corectiile/ reducerile financiare si aspecte penale – legislatie si hotarari judecatoresti\, exemple practice.\n• Nereguli si fraude in realizarea si derularea proiectelor ce beneficiaza de cofinantare europeana. \n  \nTEMATICA CURSULUI:\n1. Prezentarea sistemului de gestionare şi control al fondurilor europene;\n2. Auditul – instrument in prevenirea/ identificarea neregulilor cu fonduri europene\n3. Constatarea neregulilor –exemple;\n4. Stabilirea creanţelor bugetare rezultate din nereguli –exemple;\n5. Recuperarea creanţelor bugetare rezultate din nereguli – exemple;\n6. Registrul neregulilor şi Registrul debitorilor – exemple;\n7. Sisteme şi indicatori de fraudă;\n8. Corecţiile/ Reducerile financiare aplicabile fondurilor europene în caz de nerespectare a reglementărilor privind achiziţiile publice;\n9. Procesul verbal de constatare a neregulilor şi de stabilire a creanţelor bugetare;\n10. Nota de constatare a neregulilor şi de stabilire a corecţiilor financiare;\n11. Studii de caz\, discutii libere si solutii practice la problemele ridicate de participanti. \n
URL:https://www.atctraining.ro/calendar-curs/aplicarea-corectiilor-financiare-pentru-proiectele-cu-finantare-externa-audit-control-si-recuperare-in-materia-fondurilor-europene/
LOCATION:Poiana Brasov – Hotel Escalade
END:VEVENT
END:VCALENDAR