BEGIN:VCALENDAR
VERSION:2.0
PRODID:-//ATC training - ECPv4.8.2//NONSGML v1.0//EN
CALSCALE:GREGORIAN
METHOD:PUBLISH
X-WR-CALNAME:ATC training
X-ORIGINAL-URL:https://www.atctraining.ro
X-WR-CALDESC:Events for ATC training
BEGIN:VEVENT
DTSTART;VALUE=DATE:20241003
DTEND;VALUE=DATE:20241007
DTSTAMP:20260423T173110
CREATED:20240808T134739Z
LAST-MODIFIED:20240808T134922Z
UID:10720-1727913600-1728259199@www.atctraining.ro
SUMMARY:ANALIZA CONTRACTELOR DE INVESTITII FIDIC VS. H.G. 1/2018
DESCRIPTION:1. Prezentare de ansamblu a aplicarii HG 1/2018. \n– Conditii contractuale HG 1/2018 versus Conditii contractuale FIDIC?\n– Tipuri de contracte pentru care HG 1/ 2018 a stabilit conditii contractuale generale si speciale\n– Beneficii\n  \n2. Prezentare Anexa 1 a HG 1/2018 – Condițiile generale și specifice și acordul contractual pentru contractele de execuție de lucrări \n– Prezentare conditii contractuale HG 1/2018 in paralel cu conditiile contractuale FIDIC Rosu utilizate in contractile aferente proiectelor de infrastructura finantate din fonduri nerambursabile / rambursabile\n– Discutii CONDIȚII SPECIFICE PENTRU CONTRACTUL DE EXECUȚIE DE LUCRĂRI\n– Model accord contractual\n  \n3. Prezentare Anexa 2 a HG 1/2018 – Condițiile generale și specifice și acordul contractual pentru contractele de proiectare si execuție de lucrări \n– Prezentare conditii contractuale HG 1/2018 in paralel cu conditiile contractuale FIDIC Galben utilizate in contractile aferente proiectelor de infrastructura finantate din fonduri nerambursabile / rambursabile\n– Discutii CONDIȚII SPECIFICE PENTRU CONTRACTUL DE PROIECTARE ȘI EXECUȚIE DE LUCRĂRI\n  \n4. Revendicari si aspecte procedurale versus revendicari prevazute de FIDIC \n  \n5. Modificari contractuale intre eligibilitate si corectii financiare – \n– Instructiunea Nr. 3 din 8 august 2017 privind modificările contractului de achiziţie publică/contractului de achiziţie sectorială/acordului-cadru şi încadrarea acestor modificări ca fiind substanţiale sau nesubstanţiale\n  \n6. Responsabilitatile “supervizorului” prevazute de HG 1/ 2018 \n– Responsabilitati Inginer supervizor\n  \n7. Noul cadru legislativ in domeniul achizitiilor publice si impactul asupra implementarii contractelor de lucrari \nCursul va fi interactiv\, astfel pe parcursul prezentarii se vor prezenta exemple si studii de caz in functie de interesul acordat de participanti asupra unui subiect anume si vor avea loc dezbateri asupra spetelor ridicate de acestia. \n  \nDezbateri si studii de caz personalizate\n– discutii libere pe subiectele propuse de participanti in legatura cu temele cursului;\n– analiza si solutionarea problemelor practice propuse de participanti;\n– dezbaterea studiilor de caz propuse de participanti. \n
URL:https://www.atctraining.ro/calendar-curs/analiza-contractelor-de-investitii-fidic-vs-h-g-1-2018-2/
LOCATION:Hotel Excelsior/ Hotel Palace Sinaia
END:VEVENT
END:VCALENDAR