BEGIN:VCALENDAR
VERSION:2.0
PRODID:-//ATC training - ECPv4.8.2//NONSGML v1.0//EN
CALSCALE:GREGORIAN
METHOD:PUBLISH
X-WR-CALNAME:ATC training
X-ORIGINAL-URL:https://www.atctraining.ro
X-WR-CALDESC:Events for ATC training
BEGIN:VEVENT
DTSTART;VALUE=DATE:20250206
DTEND;VALUE=DATE:20250210
DTSTAMP:20260424T110317
CREATED:20250114T132308Z
LAST-MODIFIED:20250114T151519Z
UID:11135-1738800000-1739145599@www.atctraining.ro
SUMMARY:ACHIZITII PUBLICE SI SEAP-NOUTATI LEGISLATIVE
DESCRIPTION:\n Sistemul Electronic al Achizițiilor Publice (SEAP)  \n\nSe va aborda platforma SEAP\, pentru entități contractante și se vor prezenta: \n\nNoile formulare standard electronice (e-Forms)\, inclusiv abordarea\, operarea și desfășurarea achizițiilor ca urmare a noilor formulare standard electronice\nNoile facilități și funcționalități ale platformei SEAP\nAplicații practice și studii de caz\n\nDiscuțiile și temele vor fi dezvoltate interactiv\, prin exerciții și studii de caz concrete  \n\nNoutăți legislative   \n\nSe vor prezenta acte normative incidente achizițiilor publice&sectoriale: \n\n\n\nORDINUL ANAP nr.1.946/09.08.2024 pentru aprobarea criteriilor ecologice aplicabile categoriilor de produse care au impact asupra mediului pe durata întregului ciclu de viaţă\, prevăzute în anexa nr. 2 la Normele metodologice de aplicare a prevederilor referitoare la atribuirea contractului sectorial/acordului-cadru din Legea nr. 99/2016 privind achiziţiile sectoriale\nOrdonanța de Urgență nr. 52/2024 pentru modificarea și abrogarea unor prevederi din acte normative în domeniul achizițiilor publice și achizițiilor sectoriale\nOrdinul ANAP nr. 840/22.04.2024 privind aprobarea listelor de verificare aferente exercitării controlului de calitate și regularitate;\nOrdonanța de Urgență nr. 3/2024 pentru modificarea şi completarea Ordonanţei de Urgenţă nr. 19/2022 privind unele măsuri referitoare la garanţiile de bună execuţie constituite în cadrul contractelor de achiziţie publică şi al contractelor sectoriale şi pentru abrogarea Legii nr. 69/2016 privind achiziţiile publice verzi\nOrdinul ANAP nr.1554/2023 privind aprobarea structurii și conținutului Documentației standard de atribuire a contractului de achiziție publică și sectorială de produse\nOrdinul ANAP nr.2395/2023 privind aprobarea criteriilor ecologice aplicabile categoriilor de produse care au impact asupra mediului pe durata întregului ciclu de viață\nHotărârea Guvernului nr.5/2024 privind modificarea Anexei la H.G. nr.925/1995 pentru aprobarea Regulamentului privind verificarea şi expertizarea tehnică a proiectelor\, expertizarea tehnică a execuţiei lucrărilor şi a construcţiilor\, precum şi verificarea calităţii lucrărilor executate\nÎndrumar Metodologic pentru beneficiari privați\, elaborat de Ministerul Investițiilor și Proiectelor Europene\, aplicabil în derularea procedurilor de achiziție pentru atribuirea contractelor de furnizare de produse\, prestare de servicii\, execuție de lucrări finanțate din fondurile externe nerambursabile și rambursabile aferente Mecanismului de Redresare și Reziliență\n\n\n\n Legislația va fi prezentată interactiv\, punându-se accent pe aplicații practice. \n\nEstimarea valorii contractelor finanțate din fonduri publice și a celor finanțate din fonduri europene. Diferențe între procedura simplificată și licitația deschisă.\nExcepțiile prevăzute de lege și cazuri de aplicare a procedurii de negociere fără publicarea prealabilă a unui anunț de participare.\nAplicarea criteriilor de atribuire în funcție de praguri și de obiectul contractului.\nCumpărarea directă și procedura proprie; praguri\, obligații și diferențe.\nModificarea contractelor\, introducerea unor noi subcontractanți și ajustarea prețurilor.\nModificări substanțiale vs. modificări nesubstanțiale; înlocuirea contractantului; plata directă a subcontractantului;\nContravenții în materia achizițiilor publice.\nAspecte practice privind:\n\n– Documente aferente planificării: referatul de necesitate\, programul anual al achizițiilor publice și strategia de contractare.\n– Aplicarea factorilor de evaluare. Proporționalitatea și justificarea acestora.\n– Formule de ajustare a prețurilor. \n\nPublicarea în SEAP a planurilor de achiziții publice;\nÎncărcarea în sistemul electronic a documentației de atribuire;\nModalități de prezentare a propunerii tehnice și a propunerii financiare;\nUtilizarea noilor formulare eForms în SEAP;\nReguli de bună practică privind criteriile de atribuire obligatorii pentru anumite proceduri; alegerea factorilor de atribuire; modificări privind garanțiile (de participare/de bună execuție); reguli privind ajustarea prețului.\nReguli privind stabilirea prejudiciilor;\nReguli privind solicitarea documentelor aferente DUAE și alte solicitări; Proporționalitatea criteriilor de calificare.\nInițierea activității de control ex ante\, emiterea deciziei de verificare şi înştiinţarea autorităţii/entităţii contractante;\nLitigii care decurg din procedurile de atribuire a contractelor publice;\nSoluționarea contestațiilor depuse la CNSC și a celor formulate în fața instanțelor de judecată. Responsabilizarea autorităților contractante privind transmiterea în termenul legal a documentației necesară soluționării contestațiilor;\nInterconectarea și interoperabilitatea SEAP cu baza de date a CNSC astfel încât contestațiile formulate de operatorii economici să devină publice de la data înregistrării la CNSC;\nColaborarea CNSC cu completurile specializate în materia achizițiilor publice\, înființate la nivelul Curții de Apel București – Secția de contencios administrativ și fiscal și pentru achiziții publice\, în ceea ce privește armonizarea metodologiei aplicabile în procesul de soluționare a contestațiilor.\nMăsuri de creștere a integrității\, reducerea vulnerabilităților și a riscurilor de corupție în domeniul achizițiilor publice conform strategiei naționale anticorupție 2021-2025.\nLa cerere se vor aborda și problemele privind ONAC și îmbunătățirea sistemului de achiziții de produse medicale destinate entităților din cadrul Sistemului național de asistență medicală de urgență și de prim ajutor calificat (SNAMUPAC). Aspecte practice și particulare pentru operatorii economici.\n\n 
URL:https://www.atctraining.ro/calendar-curs/achizitii-publice-si-seap-noutati-legislative-3/
LOCATION:Hotel Casa Viorel – Poiana Brasov\, Str. Poiana lui Stechil Nr. 20\, Poaina Brasov
END:VEVENT
END:VCALENDAR