BEGIN:VCALENDAR
VERSION:2.0
PRODID:-//ATC training - ECPv4.8.2//NONSGML v1.0//EN
CALSCALE:GREGORIAN
METHOD:PUBLISH
X-WR-CALNAME:ATC training
X-ORIGINAL-URL:https://www.atctraining.ro
X-WR-CALDESC:Events for ATC training
BEGIN:VEVENT
DTSTART;VALUE=DATE:20241114
DTEND;VALUE=DATE:20241118
DTSTAMP:20260423T185909
CREATED:20241017T120356Z
LAST-MODIFIED:20241017T122851Z
UID:10914-1731542400-1731887999@www.atctraining.ro
SUMMARY:ACHIZITII PUBLICE SI SEAP
DESCRIPTION:Tematică și interpretări privind: OUG nr.52/mai 2024 pentru modificarea și abrogarea unor prevederi din acte normative în domeniul achizițiilor publice și achizițiilor sectoriale.\nOrdinul ANAP nr. 840/22.04.2024 privind aprobarea listelor de verificare aferente exercitării controlului de calitate și regularitate.\nOUG nr.3/2024 privind unele măsuri referitoare la garanţiile de bună execuţie.\nObligații privind criteriile ecologice aplicabile categoriilor de produse care au impact asupra mediului\, conform Ordin ANAP nr. 2.395/2023.\nEstimarea valorii contractelor finanțate din fonduri publice și a celor finanțate din fonduri europene. Diferențe între procedura simplificată și licitația deschisă.\nExcepțiile prevăzute de lege și cazuri de aplicare a procedurii de negociere fără publicarea prealabilă a unui anunț de participare.\nAplicarea criteriilor de atribuire în funcție de praguri și de obiectul contractului.\nCumpărarea directă și procedura proprie; praguri\, obligații și diferențe.\nModificarea contractelor\, introducerea unor noi subcontractanți și ajustarea prețurilor.\nModificări substanțiale vs. modificări nesubstanțiale; înlocuirea contractantului; plata directă a subcontractantului;\nContravenții în materia achizițiilor publice.\nAspecte practice privind:\n• Documente aferente planificării: referatul de necesitate\, programul anual al achizițiilor publice și strategia de contractare.\n• Aplicarea factorilor de evaluare. Proporționalitatea și justificarea acestora.\n• Formule de ajustare a prețurilor.\nPublicarea în SEAP a planurilor de achiziții publice;\nÎncărcarea în sistemul electronic a documentației de atribuire;\nModalități de prezentare a propunerii tehnice și a propunerii financiare;\nUtilizarea noilor formulare eForms în SEAP;\nReguli de bună practică privind criteriile de atribuire obligatorii pentru anumite proceduri; alegerea factorilor de atribuire; modificări privind garanțiile (de participare/de bună execuție); reguli privind ajustarea prețului.\nReguli privind stabilirea prejudiciilor;\nReguli privind solicitarea documentelor aferente DUAE și alte solicitări;\nProporționalitatea criteriilor de calificare. Inițierea activității de control ex ante\, emiterea deciziei de verificare şi înştiinţarea autorităţii/entităţii contractante;\nLitigii care decurg din procedurile de atribuire a contractelor publice;\nSoluționarea contestațiilor depuse la CNSC și a celor formulate în fața instanțelor de judecată. Responsabilizarea autorităților contractante privind transmiterea în termenul legal a documentației necesară soluționării contestațiilor;\nInterconectarea și interoperabilitatea SEAP cu baza de date a CNSC astfel încât contestațiile formulate de operatorii economici să devină publice de la data înregistrării la CNSC;\nColaborarea CNSC cu completurile specializate în materia achizițiilor publice\, înființate la nivelul Curții de Apel București – Secția de contencios administrativ și fiscal și pentru achiziții publice\, în ceea ce privește armonizarea metodologiei aplicabile în procesul de soluționare a contestațiilor. Măsuri de creștere a integrității\, reducerea vulnerabilităților și a riscurilor de corupție în domeniul achizițiilor publice conform strategiei naționale anticorupție 2021-2025.\nLa cerere se vor aborda și problemele privind ONAC și îmbunătățirea sistemului de achiziții de produse medicale destinate entităților din cadrul Sistemului național de asistență medicală de urgență și de prim ajutor calificat (SNAMUPAC).\nAspecte practice și particulare pentru operatorii economici.\nStudii de caz\, discutii libere si solutii practice la problemele ridicate de participanti.STUDII DE CAZ\, la propunerile participanților\, răspunsuri la întrebări și spete. \n
URL:https://www.atctraining.ro/calendar-curs/achizitii-publice-si-seap-10/
LOCATION:Hotel Excelsior/ Hotel Palace Sinaia
END:VEVENT
END:VCALENDAR